BEGIN:VCALENDAR
VERSION:2.0
PRODID:-//Polizia Locale Riviera di Ponente - ECPv6.7.0//NONSGML v1.0//EN
CALSCALE:GREGORIAN
METHOD:PUBLISH
X-ORIGINAL-URL:http://www.plrivieradiponente.it
X-WR-CALDESC:Eventi per Polizia Locale Riviera di Ponente
REFRESH-INTERVAL;VALUE=DURATION:PT1H
X-Robots-Tag:noindex
X-PUBLISHED-TTL:PT1H
BEGIN:VTIMEZONE
TZID:UTC
BEGIN:STANDARD
TZOFFSETFROM:+0000
TZOFFSETTO:+0000
TZNAME:UTC
DTSTART:20250101T000000
END:STANDARD
END:VTIMEZONE
BEGIN:VEVENT
DTSTART;TZID=UTC:20260421T090000
DTEND;TZID=UTC:20260421T110000
DTSTAMP:20260421T125537
CREATED:20200718T171905Z
LAST-MODIFIED:20200718T171905Z
UID:11580-1776762000-1776769200@www.plrivieradiponente.it
SUMMARY:Loano pulizia strade Via Amalfi - Via Calatafimi
DESCRIPTION:
URL:http://www.plrivieradiponente.it/evento/loano-pulizia-strade-via-amalfi-via-calatafimi/2026-04-21/
CATEGORIES:Divieto di sosta Loano
END:VEVENT
BEGIN:VEVENT
DTSTART;TZID=UTC:20260414T090000
DTEND;TZID=UTC:20260414T110000
DTSTAMP:20260421T125537
CREATED:20200718T171905Z
LAST-MODIFIED:20200718T171905Z
UID:11562-1776157200-1776164400@www.plrivieradiponente.it
SUMMARY:Loano pulizia strade Via Amalfi - Via Calatafimi
DESCRIPTION:
URL:http://www.plrivieradiponente.it/evento/loano-pulizia-strade-via-amalfi-via-calatafimi/2026-04-14/
CATEGORIES:Divieto di sosta Loano
END:VEVENT
BEGIN:VEVENT
DTSTART;TZID=UTC:20260407T090000
DTEND;TZID=UTC:20260407T110000
DTSTAMP:20260421T125537
CREATED:20200718T171905Z
LAST-MODIFIED:20200718T171905Z
UID:11447-1775552400-1775559600@www.plrivieradiponente.it
SUMMARY:Loano pulizia strade Via Amalfi - Via Calatafimi
DESCRIPTION:
URL:http://www.plrivieradiponente.it/evento/loano-pulizia-strade-via-amalfi-via-calatafimi/2026-04-07/
CATEGORIES:Divieto di sosta Loano
END:VEVENT
BEGIN:VEVENT
DTSTART;TZID=UTC:20260331T090000
DTEND;TZID=UTC:20260331T110000
DTSTAMP:20260421T125537
CREATED:20200718T171905Z
LAST-MODIFIED:20200718T171905Z
UID:11422-1774947600-1774954800@www.plrivieradiponente.it
SUMMARY:Loano pulizia strade Via Amalfi - Via Calatafimi
DESCRIPTION:
URL:http://www.plrivieradiponente.it/evento/loano-pulizia-strade-via-amalfi-via-calatafimi/2026-03-31/
CATEGORIES:Divieto di sosta Loano
END:VEVENT
BEGIN:VEVENT
DTSTART;TZID=UTC:20260324T090000
DTEND;TZID=UTC:20260324T110000
DTSTAMP:20260421T125537
CREATED:20200718T171905Z
LAST-MODIFIED:20200718T171905Z
UID:11405-1774342800-1774350000@www.plrivieradiponente.it
SUMMARY:Loano pulizia strade Via Amalfi - Via Calatafimi
DESCRIPTION:
URL:http://www.plrivieradiponente.it/evento/loano-pulizia-strade-via-amalfi-via-calatafimi/2026-03-24/
CATEGORIES:Divieto di sosta Loano
END:VEVENT
BEGIN:VEVENT
DTSTART;TZID=UTC:20260317T090000
DTEND;TZID=UTC:20260317T110000
DTSTAMP:20260421T125537
CREATED:20200718T171905Z
LAST-MODIFIED:20200718T171905Z
UID:11384-1773738000-1773745200@www.plrivieradiponente.it
SUMMARY:Loano pulizia strade Via Amalfi - Via Calatafimi
DESCRIPTION:
URL:http://www.plrivieradiponente.it/evento/loano-pulizia-strade-via-amalfi-via-calatafimi/2026-03-17/
CATEGORIES:Divieto di sosta Loano
END:VEVENT
BEGIN:VEVENT
DTSTART;TZID=UTC:20260310T090000
DTEND;TZID=UTC:20260310T110000
DTSTAMP:20260421T125537
CREATED:20200718T171905Z
LAST-MODIFIED:20200718T171905Z
UID:11351-1773133200-1773140400@www.plrivieradiponente.it
SUMMARY:Loano pulizia strade Via Amalfi - Via Calatafimi
DESCRIPTION:
URL:http://www.plrivieradiponente.it/evento/loano-pulizia-strade-via-amalfi-via-calatafimi/2026-03-10/
CATEGORIES:Divieto di sosta Loano
END:VEVENT
BEGIN:VEVENT
DTSTART;TZID=UTC:20260303T090000
DTEND;TZID=UTC:20260303T110000
DTSTAMP:20260421T125537
CREATED:20200718T171905Z
LAST-MODIFIED:20200718T171905Z
UID:11291-1772528400-1772535600@www.plrivieradiponente.it
SUMMARY:Loano pulizia strade Via Amalfi - Via Calatafimi
DESCRIPTION:
URL:http://www.plrivieradiponente.it/evento/loano-pulizia-strade-via-amalfi-via-calatafimi/2026-03-03/
CATEGORIES:Divieto di sosta Loano
END:VEVENT
BEGIN:VEVENT
DTSTART;TZID=UTC:20260224T090000
DTEND;TZID=UTC:20260224T110000
DTSTAMP:20260421T125537
CREATED:20200718T171905Z
LAST-MODIFIED:20200718T171905Z
UID:11266-1771923600-1771930800@www.plrivieradiponente.it
SUMMARY:Loano pulizia strade Via Amalfi - Via Calatafimi
DESCRIPTION:
URL:http://www.plrivieradiponente.it/evento/loano-pulizia-strade-via-amalfi-via-calatafimi/2026-02-24/
CATEGORIES:Divieto di sosta Loano
END:VEVENT
BEGIN:VEVENT
DTSTART;TZID=UTC:20260217T090000
DTEND;TZID=UTC:20260217T110000
DTSTAMP:20260421T125537
CREATED:20200718T171905Z
LAST-MODIFIED:20200718T171905Z
UID:11239-1771318800-1771326000@www.plrivieradiponente.it
SUMMARY:Loano pulizia strade Via Amalfi - Via Calatafimi
DESCRIPTION:
URL:http://www.plrivieradiponente.it/evento/loano-pulizia-strade-via-amalfi-via-calatafimi/2026-02-17/
CATEGORIES:Divieto di sosta Loano
END:VEVENT
BEGIN:VEVENT
DTSTART;TZID=UTC:20260210T090000
DTEND;TZID=UTC:20260210T110000
DTSTAMP:20260421T125537
CREATED:20200718T171905Z
LAST-MODIFIED:20200718T171905Z
UID:11216-1770714000-1770721200@www.plrivieradiponente.it
SUMMARY:Loano pulizia strade Via Amalfi - Via Calatafimi
DESCRIPTION:
URL:http://www.plrivieradiponente.it/evento/loano-pulizia-strade-via-amalfi-via-calatafimi/2026-02-10/
CATEGORIES:Divieto di sosta Loano
END:VEVENT
BEGIN:VEVENT
DTSTART;TZID=UTC:20260203T090000
DTEND;TZID=UTC:20260203T110000
DTSTAMP:20260421T125537
CREATED:20200718T171905Z
LAST-MODIFIED:20200718T171905Z
UID:11196-1770109200-1770116400@www.plrivieradiponente.it
SUMMARY:Loano pulizia strade Via Amalfi - Via Calatafimi
DESCRIPTION:
URL:http://www.plrivieradiponente.it/evento/loano-pulizia-strade-via-amalfi-via-calatafimi/2026-02-03/
CATEGORIES:Divieto di sosta Loano
END:VEVENT
BEGIN:VEVENT
DTSTART;TZID=UTC:20260127T090000
DTEND;TZID=UTC:20260127T110000
DTSTAMP:20260421T125537
CREATED:20200718T171905Z
LAST-MODIFIED:20200718T171905Z
UID:11170-1769504400-1769511600@www.plrivieradiponente.it
SUMMARY:Loano pulizia strade Via Amalfi - Via Calatafimi
DESCRIPTION:
URL:http://www.plrivieradiponente.it/evento/loano-pulizia-strade-via-amalfi-via-calatafimi/2026-01-27/
CATEGORIES:Divieto di sosta Loano
END:VEVENT
BEGIN:VEVENT
DTSTART;TZID=UTC:20260120T090000
DTEND;TZID=UTC:20260120T110000
DTSTAMP:20260421T125537
CREATED:20200718T171905Z
LAST-MODIFIED:20200718T171905Z
UID:11154-1768899600-1768906800@www.plrivieradiponente.it
SUMMARY:Loano pulizia strade Via Amalfi - Via Calatafimi
DESCRIPTION:
URL:http://www.plrivieradiponente.it/evento/loano-pulizia-strade-via-amalfi-via-calatafimi/2026-01-20/
CATEGORIES:Divieto di sosta Loano
END:VEVENT
BEGIN:VEVENT
DTSTART;TZID=UTC:20260113T090000
DTEND;TZID=UTC:20260113T110000
DTSTAMP:20260421T125537
CREATED:20200718T171905Z
LAST-MODIFIED:20200718T171905Z
UID:11138-1768294800-1768302000@www.plrivieradiponente.it
SUMMARY:Loano pulizia strade Via Amalfi - Via Calatafimi
DESCRIPTION:
URL:http://www.plrivieradiponente.it/evento/loano-pulizia-strade-via-amalfi-via-calatafimi/2026-01-13/
CATEGORIES:Divieto di sosta Loano
END:VEVENT
BEGIN:VEVENT
DTSTART;TZID=UTC:20260106T090000
DTEND;TZID=UTC:20260106T110000
DTSTAMP:20260421T125537
CREATED:20200718T171905Z
LAST-MODIFIED:20200718T171905Z
UID:11118-1767690000-1767697200@www.plrivieradiponente.it
SUMMARY:Loano pulizia strade Via Amalfi - Via Calatafimi
DESCRIPTION:
URL:http://www.plrivieradiponente.it/evento/loano-pulizia-strade-via-amalfi-via-calatafimi/2026-01-06/
CATEGORIES:Divieto di sosta Loano
END:VEVENT
BEGIN:VEVENT
DTSTART;TZID=UTC:20251230T090000
DTEND;TZID=UTC:20251230T110000
DTSTAMP:20260421T125537
CREATED:20200718T171905Z
LAST-MODIFIED:20200718T171905Z
UID:11098-1767085200-1767092400@www.plrivieradiponente.it
SUMMARY:Loano pulizia strade Via Amalfi - Via Calatafimi
DESCRIPTION:
URL:http://www.plrivieradiponente.it/evento/loano-pulizia-strade-via-amalfi-via-calatafimi/2025-12-30/
CATEGORIES:Divieto di sosta Loano
END:VEVENT
BEGIN:VEVENT
DTSTART;TZID=UTC:20251223T090000
DTEND;TZID=UTC:20251223T110000
DTSTAMP:20260421T125537
CREATED:20200718T171905Z
LAST-MODIFIED:20200718T171905Z
UID:11070-1766480400-1766487600@www.plrivieradiponente.it
SUMMARY:Loano pulizia strade Via Amalfi - Via Calatafimi
DESCRIPTION:
URL:http://www.plrivieradiponente.it/evento/loano-pulizia-strade-via-amalfi-via-calatafimi/2025-12-23/
CATEGORIES:Divieto di sosta Loano
END:VEVENT
BEGIN:VEVENT
DTSTART;TZID=UTC:20251216T090000
DTEND;TZID=UTC:20251216T110000
DTSTAMP:20260421T125537
CREATED:20200718T171905Z
LAST-MODIFIED:20200718T171905Z
UID:11054-1765875600-1765882800@www.plrivieradiponente.it
SUMMARY:Loano pulizia strade Via Amalfi - Via Calatafimi
DESCRIPTION:
URL:http://www.plrivieradiponente.it/evento/loano-pulizia-strade-via-amalfi-via-calatafimi/2025-12-16/
CATEGORIES:Divieto di sosta Loano
END:VEVENT
BEGIN:VEVENT
DTSTART;TZID=UTC:20251209T090000
DTEND;TZID=UTC:20251209T110000
DTSTAMP:20260421T125537
CREATED:20200718T171905Z
LAST-MODIFIED:20200718T171905Z
UID:11038-1765270800-1765278000@www.plrivieradiponente.it
SUMMARY:Loano pulizia strade Via Amalfi - Via Calatafimi
DESCRIPTION:
URL:http://www.plrivieradiponente.it/evento/loano-pulizia-strade-via-amalfi-via-calatafimi/2025-12-09/
CATEGORIES:Divieto di sosta Loano
END:VEVENT
BEGIN:VEVENT
DTSTART;TZID=UTC:20251202T090000
DTEND;TZID=UTC:20251202T110000
DTSTAMP:20260421T125537
CREATED:20200718T171905Z
LAST-MODIFIED:20200718T171905Z
UID:11018-1764666000-1764673200@www.plrivieradiponente.it
SUMMARY:Loano pulizia strade Via Amalfi - Via Calatafimi
DESCRIPTION:
URL:http://www.plrivieradiponente.it/evento/loano-pulizia-strade-via-amalfi-via-calatafimi/2025-12-02/
CATEGORIES:Divieto di sosta Loano
END:VEVENT
BEGIN:VEVENT
DTSTART;TZID=UTC:20251125T090000
DTEND;TZID=UTC:20251125T110000
DTSTAMP:20260421T125537
CREATED:20200718T171905Z
LAST-MODIFIED:20200718T171905Z
UID:10998-1764061200-1764068400@www.plrivieradiponente.it
SUMMARY:Loano pulizia strade Via Amalfi - Via Calatafimi
DESCRIPTION:
URL:http://www.plrivieradiponente.it/evento/loano-pulizia-strade-via-amalfi-via-calatafimi/2025-11-25/
CATEGORIES:Divieto di sosta Loano
END:VEVENT
BEGIN:VEVENT
DTSTART;TZID=UTC:20251118T090000
DTEND;TZID=UTC:20251118T110000
DTSTAMP:20260421T125537
CREATED:20200718T171905Z
LAST-MODIFIED:20200718T171905Z
UID:10981-1763456400-1763463600@www.plrivieradiponente.it
SUMMARY:Loano pulizia strade Via Amalfi - Via Calatafimi
DESCRIPTION:
URL:http://www.plrivieradiponente.it/evento/loano-pulizia-strade-via-amalfi-via-calatafimi/2025-11-18/
CATEGORIES:Divieto di sosta Loano
END:VEVENT
BEGIN:VEVENT
DTSTART;TZID=UTC:20251111T090000
DTEND;TZID=UTC:20251111T110000
DTSTAMP:20260421T125537
CREATED:20200718T171905Z
LAST-MODIFIED:20200718T171905Z
UID:10961-1762851600-1762858800@www.plrivieradiponente.it
SUMMARY:Loano pulizia strade Via Amalfi - Via Calatafimi
DESCRIPTION:
URL:http://www.plrivieradiponente.it/evento/loano-pulizia-strade-via-amalfi-via-calatafimi/2025-11-11/
CATEGORIES:Divieto di sosta Loano
END:VEVENT
BEGIN:VEVENT
DTSTART;TZID=UTC:20251104T090000
DTEND;TZID=UTC:20251104T110000
DTSTAMP:20260421T125537
CREATED:20200718T171905Z
LAST-MODIFIED:20200718T171905Z
UID:10931-1762246800-1762254000@www.plrivieradiponente.it
SUMMARY:Loano pulizia strade Via Amalfi - Via Calatafimi
DESCRIPTION:
URL:http://www.plrivieradiponente.it/evento/loano-pulizia-strade-via-amalfi-via-calatafimi/2025-11-04/
CATEGORIES:Divieto di sosta Loano
END:VEVENT
BEGIN:VEVENT
DTSTART;TZID=UTC:20251028T090000
DTEND;TZID=UTC:20251028T110000
DTSTAMP:20260421T125537
CREATED:20200718T171905Z
LAST-MODIFIED:20200718T171905Z
UID:10911-1761642000-1761649200@www.plrivieradiponente.it
SUMMARY:Loano pulizia strade Via Amalfi - Via Calatafimi
DESCRIPTION:
URL:http://www.plrivieradiponente.it/evento/loano-pulizia-strade-via-amalfi-via-calatafimi/2025-10-28/
CATEGORIES:Divieto di sosta Loano
END:VEVENT
BEGIN:VEVENT
DTSTART;TZID=UTC:20251021T090000
DTEND;TZID=UTC:20251021T110000
DTSTAMP:20260421T125537
CREATED:20200718T171905Z
LAST-MODIFIED:20200718T171905Z
UID:10889-1761037200-1761044400@www.plrivieradiponente.it
SUMMARY:Loano pulizia strade Via Amalfi - Via Calatafimi
DESCRIPTION:
URL:http://www.plrivieradiponente.it/evento/loano-pulizia-strade-via-amalfi-via-calatafimi/2025-10-21/
CATEGORIES:Divieto di sosta Loano
END:VEVENT
BEGIN:VEVENT
DTSTART;TZID=UTC:20251014T090000
DTEND;TZID=UTC:20251014T110000
DTSTAMP:20260421T125537
CREATED:20200718T171905Z
LAST-MODIFIED:20200718T171905Z
UID:10873-1760432400-1760439600@www.plrivieradiponente.it
SUMMARY:Loano pulizia strade Via Amalfi - Via Calatafimi
DESCRIPTION:
URL:http://www.plrivieradiponente.it/evento/loano-pulizia-strade-via-amalfi-via-calatafimi/2025-10-14/
CATEGORIES:Divieto di sosta Loano
END:VEVENT
BEGIN:VEVENT
DTSTART;TZID=UTC:20251007T090000
DTEND;TZID=UTC:20251007T110000
DTSTAMP:20260421T125537
CREATED:20200718T171905Z
LAST-MODIFIED:20200718T171905Z
UID:10854-1759827600-1759834800@www.plrivieradiponente.it
SUMMARY:Loano pulizia strade Via Amalfi - Via Calatafimi
DESCRIPTION:
URL:http://www.plrivieradiponente.it/evento/loano-pulizia-strade-via-amalfi-via-calatafimi/2025-10-07/
CATEGORIES:Divieto di sosta Loano
END:VEVENT
BEGIN:VEVENT
DTSTART;TZID=UTC:20250930T090000
DTEND;TZID=UTC:20250930T110000
DTSTAMP:20260421T125537
CREATED:20200718T171905Z
LAST-MODIFIED:20200718T171905Z
UID:10828-1759222800-1759230000@www.plrivieradiponente.it
SUMMARY:Loano pulizia strade Via Amalfi - Via Calatafimi
DESCRIPTION:
URL:http://www.plrivieradiponente.it/evento/loano-pulizia-strade-via-amalfi-via-calatafimi/2025-09-30/
CATEGORIES:Divieto di sosta Loano
END:VEVENT
END:VCALENDAR