BEGIN:VCALENDAR
VERSION:2.0
PRODID:-//Polizia Locale Riviera di Ponente - ECPv6.7.0//NONSGML v1.0//EN
CALSCALE:GREGORIAN
METHOD:PUBLISH
X-ORIGINAL-URL:http://www.plrivieradiponente.it
X-WR-CALDESC:Eventi per Polizia Locale Riviera di Ponente
REFRESH-INTERVAL;VALUE=DURATION:PT1H
X-Robots-Tag:noindex
X-PUBLISHED-TTL:PT1H
BEGIN:VTIMEZONE
TZID:UTC
BEGIN:STANDARD
TZOFFSETFROM:+0000
TZOFFSETTO:+0000
TZNAME:UTC
DTSTART:20250101T000000
END:STANDARD
END:VTIMEZONE
BEGIN:VEVENT
DTSTART;TZID=UTC:20260422T050000
DTEND;TZID=UTC:20260422T070000
DTSTAMP:20260424T012932
CREATED:20200718T173549Z
LAST-MODIFIED:20200718T173549Z
UID:11581-1776834000-1776841200@www.plrivieradiponente.it
SUMMARY:Loano pulizia strade Via Aurelia  (da Via Carducci a Via Pontassi) L.re Marconi)
DESCRIPTION:
URL:http://www.plrivieradiponente.it/evento/loano-pulizia-strade-via-aurelia-da-via-carducci-a-via-pontassi-l-re-marconi/2026-04-22/
CATEGORIES:Divieto di sosta Loano
END:VEVENT
BEGIN:VEVENT
DTSTART;TZID=UTC:20260415T050000
DTEND;TZID=UTC:20260415T070000
DTSTAMP:20260424T012932
CREATED:20200718T173549Z
LAST-MODIFIED:20200718T173549Z
UID:11564-1776229200-1776236400@www.plrivieradiponente.it
SUMMARY:Loano pulizia strade Via Aurelia  (da Via Carducci a Via Pontassi) L.re Marconi)
DESCRIPTION:
URL:http://www.plrivieradiponente.it/evento/loano-pulizia-strade-via-aurelia-da-via-carducci-a-via-pontassi-l-re-marconi/2026-04-15/
CATEGORIES:Divieto di sosta Loano
END:VEVENT
BEGIN:VEVENT
DTSTART;TZID=UTC:20260408T050000
DTEND;TZID=UTC:20260408T070000
DTSTAMP:20260424T012932
CREATED:20200718T173549Z
LAST-MODIFIED:20200718T173549Z
UID:11479-1775624400-1775631600@www.plrivieradiponente.it
SUMMARY:Loano pulizia strade Via Aurelia  (da Via Carducci a Via Pontassi) L.re Marconi)
DESCRIPTION:
URL:http://www.plrivieradiponente.it/evento/loano-pulizia-strade-via-aurelia-da-via-carducci-a-via-pontassi-l-re-marconi/2026-04-08/
CATEGORIES:Divieto di sosta Loano
END:VEVENT
BEGIN:VEVENT
DTSTART;TZID=UTC:20260401T050000
DTEND;TZID=UTC:20260401T070000
DTSTAMP:20260424T012932
CREATED:20200718T173549Z
LAST-MODIFIED:20200718T173549Z
UID:11427-1775019600-1775026800@www.plrivieradiponente.it
SUMMARY:Loano pulizia strade Via Aurelia  (da Via Carducci a Via Pontassi) L.re Marconi)
DESCRIPTION:
URL:http://www.plrivieradiponente.it/evento/loano-pulizia-strade-via-aurelia-da-via-carducci-a-via-pontassi-l-re-marconi/2026-04-01/
CATEGORIES:Divieto di sosta Loano
END:VEVENT
BEGIN:VEVENT
DTSTART;TZID=UTC:20260325T050000
DTEND;TZID=UTC:20260325T070000
DTSTAMP:20260424T012932
CREATED:20200718T173549Z
LAST-MODIFIED:20200718T173549Z
UID:11406-1774414800-1774422000@www.plrivieradiponente.it
SUMMARY:Loano pulizia strade Via Aurelia  (da Via Carducci a Via Pontassi) L.re Marconi)
DESCRIPTION:
URL:http://www.plrivieradiponente.it/evento/loano-pulizia-strade-via-aurelia-da-via-carducci-a-via-pontassi-l-re-marconi/2026-03-25/
CATEGORIES:Divieto di sosta Loano
END:VEVENT
BEGIN:VEVENT
DTSTART;TZID=UTC:20260318T050000
DTEND;TZID=UTC:20260318T070000
DTSTAMP:20260424T012932
CREATED:20200718T173549Z
LAST-MODIFIED:20200718T173549Z
UID:11389-1773810000-1773817200@www.plrivieradiponente.it
SUMMARY:Loano pulizia strade Via Aurelia  (da Via Carducci a Via Pontassi) L.re Marconi)
DESCRIPTION:
URL:http://www.plrivieradiponente.it/evento/loano-pulizia-strade-via-aurelia-da-via-carducci-a-via-pontassi-l-re-marconi/2026-03-18/
CATEGORIES:Divieto di sosta Loano
END:VEVENT
BEGIN:VEVENT
DTSTART;TZID=UTC:20260311T050000
DTEND;TZID=UTC:20260311T070000
DTSTAMP:20260424T012932
CREATED:20200718T173549Z
LAST-MODIFIED:20200718T173549Z
UID:11352-1773205200-1773212400@www.plrivieradiponente.it
SUMMARY:Loano pulizia strade Via Aurelia  (da Via Carducci a Via Pontassi) L.re Marconi)
DESCRIPTION:
URL:http://www.plrivieradiponente.it/evento/loano-pulizia-strade-via-aurelia-da-via-carducci-a-via-pontassi-l-re-marconi/2026-03-11/
CATEGORIES:Divieto di sosta Loano
END:VEVENT
BEGIN:VEVENT
DTSTART;TZID=UTC:20260304T050000
DTEND;TZID=UTC:20260304T070000
DTSTAMP:20260424T012932
CREATED:20200718T173549Z
LAST-MODIFIED:20200718T173549Z
UID:11296-1772600400-1772607600@www.plrivieradiponente.it
SUMMARY:Loano pulizia strade Via Aurelia  (da Via Carducci a Via Pontassi) L.re Marconi)
DESCRIPTION:
URL:http://www.plrivieradiponente.it/evento/loano-pulizia-strade-via-aurelia-da-via-carducci-a-via-pontassi-l-re-marconi/2026-03-04/
CATEGORIES:Divieto di sosta Loano
END:VEVENT
BEGIN:VEVENT
DTSTART;TZID=UTC:20260225T050000
DTEND;TZID=UTC:20260225T070000
DTSTAMP:20260424T012932
CREATED:20200718T173549Z
LAST-MODIFIED:20200718T173549Z
UID:11267-1771995600-1772002800@www.plrivieradiponente.it
SUMMARY:Loano pulizia strade Via Aurelia  (da Via Carducci a Via Pontassi) L.re Marconi)
DESCRIPTION:
URL:http://www.plrivieradiponente.it/evento/loano-pulizia-strade-via-aurelia-da-via-carducci-a-via-pontassi-l-re-marconi/2026-02-25/
CATEGORIES:Divieto di sosta Loano
END:VEVENT
BEGIN:VEVENT
DTSTART;TZID=UTC:20260218T050000
DTEND;TZID=UTC:20260218T070000
DTSTAMP:20260424T012932
CREATED:20200718T173549Z
LAST-MODIFIED:20200718T173549Z
UID:11240-1771390800-1771398000@www.plrivieradiponente.it
SUMMARY:Loano pulizia strade Via Aurelia  (da Via Carducci a Via Pontassi) L.re Marconi)
DESCRIPTION:
URL:http://www.plrivieradiponente.it/evento/loano-pulizia-strade-via-aurelia-da-via-carducci-a-via-pontassi-l-re-marconi/2026-02-18/
CATEGORIES:Divieto di sosta Loano
END:VEVENT
BEGIN:VEVENT
DTSTART;TZID=UTC:20260211T050000
DTEND;TZID=UTC:20260211T070000
DTSTAMP:20260424T012932
CREATED:20200718T173549Z
LAST-MODIFIED:20200718T173549Z
UID:11217-1770786000-1770793200@www.plrivieradiponente.it
SUMMARY:Loano pulizia strade Via Aurelia  (da Via Carducci a Via Pontassi) L.re Marconi)
DESCRIPTION:
URL:http://www.plrivieradiponente.it/evento/loano-pulizia-strade-via-aurelia-da-via-carducci-a-via-pontassi-l-re-marconi/2026-02-11/
CATEGORIES:Divieto di sosta Loano
END:VEVENT
BEGIN:VEVENT
DTSTART;TZID=UTC:20260204T050000
DTEND;TZID=UTC:20260204T070000
DTSTAMP:20260424T012932
CREATED:20200718T173549Z
LAST-MODIFIED:20200718T173549Z
UID:11201-1770181200-1770188400@www.plrivieradiponente.it
SUMMARY:Loano pulizia strade Via Aurelia  (da Via Carducci a Via Pontassi) L.re Marconi)
DESCRIPTION:
URL:http://www.plrivieradiponente.it/evento/loano-pulizia-strade-via-aurelia-da-via-carducci-a-via-pontassi-l-re-marconi/2026-02-04/
CATEGORIES:Divieto di sosta Loano
END:VEVENT
BEGIN:VEVENT
DTSTART;TZID=UTC:20260128T050000
DTEND;TZID=UTC:20260128T070000
DTSTAMP:20260424T012932
CREATED:20200718T173549Z
LAST-MODIFIED:20200718T173549Z
UID:11171-1769576400-1769583600@www.plrivieradiponente.it
SUMMARY:Loano pulizia strade Via Aurelia  (da Via Carducci a Via Pontassi) L.re Marconi)
DESCRIPTION:
URL:http://www.plrivieradiponente.it/evento/loano-pulizia-strade-via-aurelia-da-via-carducci-a-via-pontassi-l-re-marconi/2026-01-28/
CATEGORIES:Divieto di sosta Loano
END:VEVENT
BEGIN:VEVENT
DTSTART;TZID=UTC:20260121T050000
DTEND;TZID=UTC:20260121T070000
DTSTAMP:20260424T012932
CREATED:20200718T173549Z
LAST-MODIFIED:20200718T173549Z
UID:11155-1768971600-1768978800@www.plrivieradiponente.it
SUMMARY:Loano pulizia strade Via Aurelia  (da Via Carducci a Via Pontassi) L.re Marconi)
DESCRIPTION:
URL:http://www.plrivieradiponente.it/evento/loano-pulizia-strade-via-aurelia-da-via-carducci-a-via-pontassi-l-re-marconi/2026-01-21/
CATEGORIES:Divieto di sosta Loano
END:VEVENT
BEGIN:VEVENT
DTSTART;TZID=UTC:20260114T050000
DTEND;TZID=UTC:20260114T070000
DTSTAMP:20260424T012932
CREATED:20200718T173549Z
LAST-MODIFIED:20200718T173549Z
UID:11139-1768366800-1768374000@www.plrivieradiponente.it
SUMMARY:Loano pulizia strade Via Aurelia  (da Via Carducci a Via Pontassi) L.re Marconi)
DESCRIPTION:
URL:http://www.plrivieradiponente.it/evento/loano-pulizia-strade-via-aurelia-da-via-carducci-a-via-pontassi-l-re-marconi/2026-01-14/
CATEGORIES:Divieto di sosta Loano
END:VEVENT
BEGIN:VEVENT
DTSTART;TZID=UTC:20260107T050000
DTEND;TZID=UTC:20260107T070000
DTSTAMP:20260424T012932
CREATED:20200718T173549Z
LAST-MODIFIED:20200718T173549Z
UID:11123-1767762000-1767769200@www.plrivieradiponente.it
SUMMARY:Loano pulizia strade Via Aurelia  (da Via Carducci a Via Pontassi) L.re Marconi)
DESCRIPTION:
URL:http://www.plrivieradiponente.it/evento/loano-pulizia-strade-via-aurelia-da-via-carducci-a-via-pontassi-l-re-marconi/2026-01-07/
CATEGORIES:Divieto di sosta Loano
END:VEVENT
BEGIN:VEVENT
DTSTART;TZID=UTC:20251231T050000
DTEND;TZID=UTC:20251231T070000
DTSTAMP:20260424T012932
CREATED:20200718T173549Z
LAST-MODIFIED:20200718T173549Z
UID:11099-1767157200-1767164400@www.plrivieradiponente.it
SUMMARY:Loano pulizia strade Via Aurelia  (da Via Carducci a Via Pontassi) L.re Marconi)
DESCRIPTION:
URL:http://www.plrivieradiponente.it/evento/loano-pulizia-strade-via-aurelia-da-via-carducci-a-via-pontassi-l-re-marconi/2025-12-31/
CATEGORIES:Divieto di sosta Loano
END:VEVENT
BEGIN:VEVENT
DTSTART;TZID=UTC:20251224T050000
DTEND;TZID=UTC:20251224T070000
DTSTAMP:20260424T012932
CREATED:20200718T173549Z
LAST-MODIFIED:20200718T173549Z
UID:11071-1766552400-1766559600@www.plrivieradiponente.it
SUMMARY:Loano pulizia strade Via Aurelia  (da Via Carducci a Via Pontassi) L.re Marconi)
DESCRIPTION:
URL:http://www.plrivieradiponente.it/evento/loano-pulizia-strade-via-aurelia-da-via-carducci-a-via-pontassi-l-re-marconi/2025-12-24/
CATEGORIES:Divieto di sosta Loano
END:VEVENT
BEGIN:VEVENT
DTSTART;TZID=UTC:20251217T050000
DTEND;TZID=UTC:20251217T070000
DTSTAMP:20260424T012932
CREATED:20200718T173549Z
LAST-MODIFIED:20200718T173549Z
UID:11055-1765947600-1765954800@www.plrivieradiponente.it
SUMMARY:Loano pulizia strade Via Aurelia  (da Via Carducci a Via Pontassi) L.re Marconi)
DESCRIPTION:
URL:http://www.plrivieradiponente.it/evento/loano-pulizia-strade-via-aurelia-da-via-carducci-a-via-pontassi-l-re-marconi/2025-12-17/
CATEGORIES:Divieto di sosta Loano
END:VEVENT
BEGIN:VEVENT
DTSTART;TZID=UTC:20251210T050000
DTEND;TZID=UTC:20251210T070000
DTSTAMP:20260424T012932
CREATED:20200718T173549Z
LAST-MODIFIED:20200718T173549Z
UID:11039-1765342800-1765350000@www.plrivieradiponente.it
SUMMARY:Loano pulizia strade Via Aurelia  (da Via Carducci a Via Pontassi) L.re Marconi)
DESCRIPTION:
URL:http://www.plrivieradiponente.it/evento/loano-pulizia-strade-via-aurelia-da-via-carducci-a-via-pontassi-l-re-marconi/2025-12-10/
CATEGORIES:Divieto di sosta Loano
END:VEVENT
BEGIN:VEVENT
DTSTART;TZID=UTC:20251203T050000
DTEND;TZID=UTC:20251203T070000
DTSTAMP:20260424T012932
CREATED:20200718T173549Z
LAST-MODIFIED:20200718T173549Z
UID:11023-1764738000-1764745200@www.plrivieradiponente.it
SUMMARY:Loano pulizia strade Via Aurelia  (da Via Carducci a Via Pontassi) L.re Marconi)
DESCRIPTION:
URL:http://www.plrivieradiponente.it/evento/loano-pulizia-strade-via-aurelia-da-via-carducci-a-via-pontassi-l-re-marconi/2025-12-03/
CATEGORIES:Divieto di sosta Loano
END:VEVENT
BEGIN:VEVENT
DTSTART;TZID=UTC:20251126T050000
DTEND;TZID=UTC:20251126T070000
DTSTAMP:20260424T012932
CREATED:20200718T173549Z
LAST-MODIFIED:20200718T173549Z
UID:10999-1764133200-1764140400@www.plrivieradiponente.it
SUMMARY:Loano pulizia strade Via Aurelia  (da Via Carducci a Via Pontassi) L.re Marconi)
DESCRIPTION:
URL:http://www.plrivieradiponente.it/evento/loano-pulizia-strade-via-aurelia-da-via-carducci-a-via-pontassi-l-re-marconi/2025-11-26/
CATEGORIES:Divieto di sosta Loano
END:VEVENT
BEGIN:VEVENT
DTSTART;TZID=UTC:20251119T050000
DTEND;TZID=UTC:20251119T070000
DTSTAMP:20260424T012932
CREATED:20200718T173549Z
LAST-MODIFIED:20200718T173549Z
UID:10982-1763528400-1763535600@www.plrivieradiponente.it
SUMMARY:Loano pulizia strade Via Aurelia  (da Via Carducci a Via Pontassi) L.re Marconi)
DESCRIPTION:
URL:http://www.plrivieradiponente.it/evento/loano-pulizia-strade-via-aurelia-da-via-carducci-a-via-pontassi-l-re-marconi/2025-11-19/
CATEGORIES:Divieto di sosta Loano
END:VEVENT
BEGIN:VEVENT
DTSTART;TZID=UTC:20251112T050000
DTEND;TZID=UTC:20251112T070000
DTSTAMP:20260424T012932
CREATED:20200718T173549Z
LAST-MODIFIED:20200718T173549Z
UID:10962-1762923600-1762930800@www.plrivieradiponente.it
SUMMARY:Loano pulizia strade Via Aurelia  (da Via Carducci a Via Pontassi) L.re Marconi)
DESCRIPTION:
URL:http://www.plrivieradiponente.it/evento/loano-pulizia-strade-via-aurelia-da-via-carducci-a-via-pontassi-l-re-marconi/2025-11-12/
CATEGORIES:Divieto di sosta Loano
END:VEVENT
BEGIN:VEVENT
DTSTART;TZID=UTC:20251105T050000
DTEND;TZID=UTC:20251105T070000
DTSTAMP:20260424T012932
CREATED:20200718T173549Z
LAST-MODIFIED:20200718T173549Z
UID:10936-1762318800-1762326000@www.plrivieradiponente.it
SUMMARY:Loano pulizia strade Via Aurelia  (da Via Carducci a Via Pontassi) L.re Marconi)
DESCRIPTION:
URL:http://www.plrivieradiponente.it/evento/loano-pulizia-strade-via-aurelia-da-via-carducci-a-via-pontassi-l-re-marconi/2025-11-05/
CATEGORIES:Divieto di sosta Loano
END:VEVENT
BEGIN:VEVENT
DTSTART;TZID=UTC:20251029T050000
DTEND;TZID=UTC:20251029T070000
DTSTAMP:20260424T012932
CREATED:20200718T173549Z
LAST-MODIFIED:20200718T173549Z
UID:10912-1761714000-1761721200@www.plrivieradiponente.it
SUMMARY:Loano pulizia strade Via Aurelia  (da Via Carducci a Via Pontassi) L.re Marconi)
DESCRIPTION:
URL:http://www.plrivieradiponente.it/evento/loano-pulizia-strade-via-aurelia-da-via-carducci-a-via-pontassi-l-re-marconi/2025-10-29/
CATEGORIES:Divieto di sosta Loano
END:VEVENT
BEGIN:VEVENT
DTSTART;TZID=UTC:20251022T050000
DTEND;TZID=UTC:20251022T070000
DTSTAMP:20260424T012932
CREATED:20200718T173549Z
LAST-MODIFIED:20200718T173549Z
UID:10894-1761109200-1761116400@www.plrivieradiponente.it
SUMMARY:Loano pulizia strade Via Aurelia  (da Via Carducci a Via Pontassi) L.re Marconi)
DESCRIPTION:
URL:http://www.plrivieradiponente.it/evento/loano-pulizia-strade-via-aurelia-da-via-carducci-a-via-pontassi-l-re-marconi/2025-10-22/
CATEGORIES:Divieto di sosta Loano
END:VEVENT
BEGIN:VEVENT
DTSTART;TZID=UTC:20251015T050000
DTEND;TZID=UTC:20251015T070000
DTSTAMP:20260424T012932
CREATED:20200718T173549Z
LAST-MODIFIED:20200718T173549Z
UID:10874-1760504400-1760511600@www.plrivieradiponente.it
SUMMARY:Loano pulizia strade Via Aurelia  (da Via Carducci a Via Pontassi) L.re Marconi)
DESCRIPTION:
URL:http://www.plrivieradiponente.it/evento/loano-pulizia-strade-via-aurelia-da-via-carducci-a-via-pontassi-l-re-marconi/2025-10-15/
CATEGORIES:Divieto di sosta Loano
END:VEVENT
BEGIN:VEVENT
DTSTART;TZID=UTC:20251008T050000
DTEND;TZID=UTC:20251008T070000
DTSTAMP:20260424T012932
CREATED:20200718T173549Z
LAST-MODIFIED:20200718T173549Z
UID:10858-1759899600-1759906800@www.plrivieradiponente.it
SUMMARY:Loano pulizia strade Via Aurelia  (da Via Carducci a Via Pontassi) L.re Marconi)
DESCRIPTION:
URL:http://www.plrivieradiponente.it/evento/loano-pulizia-strade-via-aurelia-da-via-carducci-a-via-pontassi-l-re-marconi/2025-10-08/
CATEGORIES:Divieto di sosta Loano
END:VEVENT
BEGIN:VEVENT
DTSTART;TZID=UTC:20251001T050000
DTEND;TZID=UTC:20251001T070000
DTSTAMP:20260424T012932
CREATED:20200718T173549Z
LAST-MODIFIED:20200718T173549Z
UID:10833-1759294800-1759302000@www.plrivieradiponente.it
SUMMARY:Loano pulizia strade Via Aurelia  (da Via Carducci a Via Pontassi) L.re Marconi)
DESCRIPTION:
URL:http://www.plrivieradiponente.it/evento/loano-pulizia-strade-via-aurelia-da-via-carducci-a-via-pontassi-l-re-marconi/2025-10-01/
CATEGORIES:Divieto di sosta Loano
END:VEVENT
END:VCALENDAR