BEGIN:VCALENDAR
VERSION:2.0
PRODID:-//Polizia Locale Riviera di Ponente - ECPv6.7.0//NONSGML v1.0//EN
CALSCALE:GREGORIAN
METHOD:PUBLISH
X-ORIGINAL-URL:http://www.plrivieradiponente.it
X-WR-CALDESC:Eventi per Polizia Locale Riviera di Ponente
REFRESH-INTERVAL;VALUE=DURATION:PT1H
X-Robots-Tag:noindex
X-PUBLISHED-TTL:PT1H
BEGIN:VTIMEZONE
TZID:UTC
BEGIN:STANDARD
TZOFFSETFROM:+0000
TZOFFSETTO:+0000
TZNAME:UTC
DTSTART:20260101T000000
END:STANDARD
END:VTIMEZONE
BEGIN:VEVENT
DTSTART;TZID=UTC:20260429T050000
DTEND;TZID=UTC:20260429T070000
DTSTAMP:20260423T235902
CREATED:20200718T173549Z
LAST-MODIFIED:20200718T173549Z
UID:11608-1777438800-1777446000@www.plrivieradiponente.it
SUMMARY:Loano pulizia strade Via Aurelia  (da Via Carducci a Via Pontassi) L.re Marconi)
DESCRIPTION:
URL:http://www.plrivieradiponente.it/evento/loano-pulizia-strade-via-aurelia-da-via-carducci-a-via-pontassi-l-re-marconi/2026-04-29/
CATEGORIES:Divieto di sosta Loano
END:VEVENT
BEGIN:VEVENT
DTSTART;TZID=UTC:20260506T050000
DTEND;TZID=UTC:20260506T070000
DTSTAMP:20260423T235902
CREATED:20200718T173549Z
LAST-MODIFIED:20200718T173549Z
UID:11632-1778043600-1778050800@www.plrivieradiponente.it
SUMMARY:Loano pulizia strade Via Aurelia  (da Via Carducci a Via Pontassi) L.re Marconi)
DESCRIPTION:
URL:http://www.plrivieradiponente.it/evento/loano-pulizia-strade-via-aurelia-da-via-carducci-a-via-pontassi-l-re-marconi/2026-05-06/
CATEGORIES:Divieto di sosta Loano
END:VEVENT
BEGIN:VEVENT
DTSTART;TZID=UTC:20260513T050000
DTEND;TZID=UTC:20260513T070000
DTSTAMP:20260423T235902
CREATED:20200718T173549Z
LAST-MODIFIED:20200718T173549Z
UID:11649-1778648400-1778655600@www.plrivieradiponente.it
SUMMARY:Loano pulizia strade Via Aurelia  (da Via Carducci a Via Pontassi) L.re Marconi)
DESCRIPTION:
URL:http://www.plrivieradiponente.it/evento/loano-pulizia-strade-via-aurelia-da-via-carducci-a-via-pontassi-l-re-marconi/2026-05-13/
CATEGORIES:Divieto di sosta Loano
END:VEVENT
BEGIN:VEVENT
DTSTART;TZID=UTC:20260520T050000
DTEND;TZID=UTC:20260520T070000
DTSTAMP:20260423T235902
CREATED:20200718T173549Z
LAST-MODIFIED:20200718T173549Z
UID:11665-1779253200-1779260400@www.plrivieradiponente.it
SUMMARY:Loano pulizia strade Via Aurelia  (da Via Carducci a Via Pontassi) L.re Marconi)
DESCRIPTION:
URL:http://www.plrivieradiponente.it/evento/loano-pulizia-strade-via-aurelia-da-via-carducci-a-via-pontassi-l-re-marconi/2026-05-20/
CATEGORIES:Divieto di sosta Loano
END:VEVENT
BEGIN:VEVENT
DTSTART;TZID=UTC:20260527T050000
DTEND;TZID=UTC:20260527T070000
DTSTAMP:20260423T235902
CREATED:20200718T173549Z
LAST-MODIFIED:20200718T173549Z
UID:11681-1779858000-1779865200@www.plrivieradiponente.it
SUMMARY:Loano pulizia strade Via Aurelia  (da Via Carducci a Via Pontassi) L.re Marconi)
DESCRIPTION:
URL:http://www.plrivieradiponente.it/evento/loano-pulizia-strade-via-aurelia-da-via-carducci-a-via-pontassi-l-re-marconi/2026-05-27/
CATEGORIES:Divieto di sosta Loano
END:VEVENT
BEGIN:VEVENT
DTSTART;TZID=UTC:20260603T050000
DTEND;TZID=UTC:20260603T070000
DTSTAMP:20260423T235902
CREATED:20200718T173549Z
LAST-MODIFIED:20200718T173549Z
UID:11707-1780462800-1780470000@www.plrivieradiponente.it
SUMMARY:Loano pulizia strade Via Aurelia  (da Via Carducci a Via Pontassi) L.re Marconi)
DESCRIPTION:
URL:http://www.plrivieradiponente.it/evento/loano-pulizia-strade-via-aurelia-da-via-carducci-a-via-pontassi-l-re-marconi/2026-06-03/
CATEGORIES:Divieto di sosta Loano
END:VEVENT
BEGIN:VEVENT
DTSTART;TZID=UTC:20260610T050000
DTEND;TZID=UTC:20260610T070000
DTSTAMP:20260423T235902
CREATED:20200718T173549Z
LAST-MODIFIED:20200718T173549Z
UID:11747-1781067600-1781074800@www.plrivieradiponente.it
SUMMARY:Loano pulizia strade Via Aurelia  (da Via Carducci a Via Pontassi) L.re Marconi)
DESCRIPTION:
URL:http://www.plrivieradiponente.it/evento/loano-pulizia-strade-via-aurelia-da-via-carducci-a-via-pontassi-l-re-marconi/2026-06-10/
CATEGORIES:Divieto di sosta Loano
END:VEVENT
BEGIN:VEVENT
DTSTART;TZID=UTC:20260617T050000
DTEND;TZID=UTC:20260617T070000
DTSTAMP:20260423T235902
CREATED:20200718T173549Z
LAST-MODIFIED:20200718T173549Z
UID:11764-1781672400-1781679600@www.plrivieradiponente.it
SUMMARY:Loano pulizia strade Via Aurelia  (da Via Carducci a Via Pontassi) L.re Marconi)
DESCRIPTION:
URL:http://www.plrivieradiponente.it/evento/loano-pulizia-strade-via-aurelia-da-via-carducci-a-via-pontassi-l-re-marconi/2026-06-17/
CATEGORIES:Divieto di sosta Loano
END:VEVENT
BEGIN:VEVENT
DTSTART;TZID=UTC:20260624T050000
DTEND;TZID=UTC:20260624T070000
DTSTAMP:20260423T235902
CREATED:20200718T173549Z
LAST-MODIFIED:20200718T173549Z
UID:11792-1782277200-1782284400@www.plrivieradiponente.it
SUMMARY:Loano pulizia strade Via Aurelia  (da Via Carducci a Via Pontassi) L.re Marconi)
DESCRIPTION:
URL:http://www.plrivieradiponente.it/evento/loano-pulizia-strade-via-aurelia-da-via-carducci-a-via-pontassi-l-re-marconi/2026-06-24/
CATEGORIES:Divieto di sosta Loano
END:VEVENT
BEGIN:VEVENT
DTSTART;TZID=UTC:20260701T050000
DTEND;TZID=UTC:20260701T070000
DTSTAMP:20260423T235902
CREATED:20200718T173549Z
LAST-MODIFIED:20200718T173549Z
UID:11812-1782882000-1782889200@www.plrivieradiponente.it
SUMMARY:Loano pulizia strade Via Aurelia  (da Via Carducci a Via Pontassi) L.re Marconi)
DESCRIPTION:
URL:http://www.plrivieradiponente.it/evento/loano-pulizia-strade-via-aurelia-da-via-carducci-a-via-pontassi-l-re-marconi/2026-07-01/
CATEGORIES:Divieto di sosta Loano
END:VEVENT
BEGIN:VEVENT
DTSTART;TZID=UTC:20260708T050000
DTEND;TZID=UTC:20260708T070000
DTSTAMP:20260423T235902
CREATED:20200718T173549Z
LAST-MODIFIED:20200718T173549Z
UID:11832-1783486800-1783494000@www.plrivieradiponente.it
SUMMARY:Loano pulizia strade Via Aurelia  (da Via Carducci a Via Pontassi) L.re Marconi)
DESCRIPTION:
URL:http://www.plrivieradiponente.it/evento/loano-pulizia-strade-via-aurelia-da-via-carducci-a-via-pontassi-l-re-marconi/2026-07-08/
CATEGORIES:Divieto di sosta Loano
END:VEVENT
BEGIN:VEVENT
DTSTART;TZID=UTC:20260715T050000
DTEND;TZID=UTC:20260715T070000
DTSTAMP:20260423T235902
CREATED:20200718T173549Z
LAST-MODIFIED:20200718T173549Z
UID:11858-1784091600-1784098800@www.plrivieradiponente.it
SUMMARY:Loano pulizia strade Via Aurelia  (da Via Carducci a Via Pontassi) L.re Marconi)
DESCRIPTION:
URL:http://www.plrivieradiponente.it/evento/loano-pulizia-strade-via-aurelia-da-via-carducci-a-via-pontassi-l-re-marconi/2026-07-15/
CATEGORIES:Divieto di sosta Loano
END:VEVENT
BEGIN:VEVENT
DTSTART;TZID=UTC:20260722T050000
DTEND;TZID=UTC:20260722T070000
DTSTAMP:20260423T235902
CREATED:20200718T173549Z
LAST-MODIFIED:20200718T173549Z
UID:11875-1784696400-1784703600@www.plrivieradiponente.it
SUMMARY:Loano pulizia strade Via Aurelia  (da Via Carducci a Via Pontassi) L.re Marconi)
DESCRIPTION:
URL:http://www.plrivieradiponente.it/evento/loano-pulizia-strade-via-aurelia-da-via-carducci-a-via-pontassi-l-re-marconi/2026-07-22/
CATEGORIES:Divieto di sosta Loano
END:VEVENT
BEGIN:VEVENT
DTSTART;TZID=UTC:20260729T050000
DTEND;TZID=UTC:20260729T070000
DTSTAMP:20260423T235902
CREATED:20200718T173549Z
LAST-MODIFIED:20200718T173549Z
UID:11901-1785301200-1785308400@www.plrivieradiponente.it
SUMMARY:Loano pulizia strade Via Aurelia  (da Via Carducci a Via Pontassi) L.re Marconi)
DESCRIPTION:
URL:http://www.plrivieradiponente.it/evento/loano-pulizia-strade-via-aurelia-da-via-carducci-a-via-pontassi-l-re-marconi/2026-07-29/
CATEGORIES:Divieto di sosta Loano
END:VEVENT
BEGIN:VEVENT
DTSTART;TZID=UTC:20260805T050000
DTEND;TZID=UTC:20260805T070000
DTSTAMP:20260423T235902
CREATED:20200718T173549Z
LAST-MODIFIED:20200718T173549Z
UID:11925-1785906000-1785913200@www.plrivieradiponente.it
SUMMARY:Loano pulizia strade Via Aurelia  (da Via Carducci a Via Pontassi) L.re Marconi)
DESCRIPTION:
URL:http://www.plrivieradiponente.it/evento/loano-pulizia-strade-via-aurelia-da-via-carducci-a-via-pontassi-l-re-marconi/2026-08-05/
CATEGORIES:Divieto di sosta Loano
END:VEVENT
BEGIN:VEVENT
DTSTART;TZID=UTC:20260826T050000
DTEND;TZID=UTC:20260826T070000
DTSTAMP:20260423T235902
CREATED:20200718T173549Z
LAST-MODIFIED:20200718T173549Z
UID:11946-1787720400-1787727600@www.plrivieradiponente.it
SUMMARY:Loano pulizia strade Via Aurelia  (da Via Carducci a Via Pontassi) L.re Marconi)
DESCRIPTION:
URL:http://www.plrivieradiponente.it/evento/loano-pulizia-strade-via-aurelia-da-via-carducci-a-via-pontassi-l-re-marconi/2026-08-26/
CATEGORIES:Divieto di sosta Loano
END:VEVENT
BEGIN:VEVENT
DTSTART;TZID=UTC:20260902T050000
DTEND;TZID=UTC:20260902T070000
DTSTAMP:20260423T235902
CREATED:20200718T173549Z
LAST-MODIFIED:20200718T173549Z
UID:11971-1788325200-1788332400@www.plrivieradiponente.it
SUMMARY:Loano pulizia strade Via Aurelia  (da Via Carducci a Via Pontassi) L.re Marconi)
DESCRIPTION:
URL:http://www.plrivieradiponente.it/evento/loano-pulizia-strade-via-aurelia-da-via-carducci-a-via-pontassi-l-re-marconi/2026-09-02/
CATEGORIES:Divieto di sosta Loano
END:VEVENT
BEGIN:VEVENT
DTSTART;TZID=UTC:20260909T050000
DTEND;TZID=UTC:20260909T070000
DTSTAMP:20260423T235902
CREATED:20200718T173549Z
LAST-MODIFIED:20200718T173549Z
UID:11996-1788930000-1788937200@www.plrivieradiponente.it
SUMMARY:Loano pulizia strade Via Aurelia  (da Via Carducci a Via Pontassi) L.re Marconi)
DESCRIPTION:
URL:http://www.plrivieradiponente.it/evento/loano-pulizia-strade-via-aurelia-da-via-carducci-a-via-pontassi-l-re-marconi/2026-09-09/
CATEGORIES:Divieto di sosta Loano
END:VEVENT
BEGIN:VEVENT
DTSTART;TZID=UTC:20260916T050000
DTEND;TZID=UTC:20260916T070000
DTSTAMP:20260423T235902
CREATED:20200718T173549Z
LAST-MODIFIED:20200718T173549Z
UID:12021-1789534800-1789542000@www.plrivieradiponente.it
SUMMARY:Loano pulizia strade Via Aurelia  (da Via Carducci a Via Pontassi) L.re Marconi)
DESCRIPTION:
URL:http://www.plrivieradiponente.it/evento/loano-pulizia-strade-via-aurelia-da-via-carducci-a-via-pontassi-l-re-marconi/2026-09-16/
CATEGORIES:Divieto di sosta Loano
END:VEVENT
BEGIN:VEVENT
DTSTART;TZID=UTC:20260923T050000
DTEND;TZID=UTC:20260923T070000
DTSTAMP:20260423T235902
CREATED:20200718T173549Z
LAST-MODIFIED:20200718T173549Z
UID:12041-1790139600-1790146800@www.plrivieradiponente.it
SUMMARY:Loano pulizia strade Via Aurelia  (da Via Carducci a Via Pontassi) L.re Marconi)
DESCRIPTION:
URL:http://www.plrivieradiponente.it/evento/loano-pulizia-strade-via-aurelia-da-via-carducci-a-via-pontassi-l-re-marconi/2026-09-23/
CATEGORIES:Divieto di sosta Loano
END:VEVENT
BEGIN:VEVENT
DTSTART;TZID=UTC:20260930T050000
DTEND;TZID=UTC:20260930T070000
DTSTAMP:20260423T235902
CREATED:20200718T173549Z
LAST-MODIFIED:20200718T173549Z
UID:12057-1790744400-1790751600@www.plrivieradiponente.it
SUMMARY:Loano pulizia strade Via Aurelia  (da Via Carducci a Via Pontassi) L.re Marconi)
DESCRIPTION:
URL:http://www.plrivieradiponente.it/evento/loano-pulizia-strade-via-aurelia-da-via-carducci-a-via-pontassi-l-re-marconi/2026-09-30/
CATEGORIES:Divieto di sosta Loano
END:VEVENT
BEGIN:VEVENT
DTSTART;TZID=UTC:20261007T050000
DTEND;TZID=UTC:20261007T070000
DTSTAMP:20260423T235902
CREATED:20200718T173549Z
LAST-MODIFIED:20200718T173549Z
UID:12084-1791349200-1791356400@www.plrivieradiponente.it
SUMMARY:Loano pulizia strade Via Aurelia  (da Via Carducci a Via Pontassi) L.re Marconi)
DESCRIPTION:
URL:http://www.plrivieradiponente.it/evento/loano-pulizia-strade-via-aurelia-da-via-carducci-a-via-pontassi-l-re-marconi/2026-10-07/
CATEGORIES:Divieto di sosta Loano
END:VEVENT
BEGIN:VEVENT
DTSTART;TZID=UTC:20261014T050000
DTEND;TZID=UTC:20261014T070000
DTSTAMP:20260423T235902
CREATED:20200718T173549Z
LAST-MODIFIED:20200718T173549Z
UID:12148-1791954000-1791961200@www.plrivieradiponente.it
SUMMARY:Loano pulizia strade Via Aurelia  (da Via Carducci a Via Pontassi) L.re Marconi)
DESCRIPTION:
URL:http://www.plrivieradiponente.it/evento/loano-pulizia-strade-via-aurelia-da-via-carducci-a-via-pontassi-l-re-marconi/2026-10-14/
CATEGORIES:Divieto di sosta Loano
END:VEVENT
BEGIN:VEVENT
DTSTART;TZID=UTC:20261021T050000
DTEND;TZID=UTC:20261021T070000
DTSTAMP:20260423T235902
CREATED:20200718T173549Z
LAST-MODIFIED:20200718T173549Z
UID:12212-1792558800-1792566000@www.plrivieradiponente.it
SUMMARY:Loano pulizia strade Via Aurelia  (da Via Carducci a Via Pontassi) L.re Marconi)
DESCRIPTION:
URL:http://www.plrivieradiponente.it/evento/loano-pulizia-strade-via-aurelia-da-via-carducci-a-via-pontassi-l-re-marconi/2026-10-21/
CATEGORIES:Divieto di sosta Loano
END:VEVENT
BEGIN:VEVENT
DTSTART;TZID=UTC:20261028T050000
DTEND;TZID=UTC:20261028T070000
DTSTAMP:20260423T235902
CREATED:20200718T173549Z
LAST-MODIFIED:20200718T173549Z
UID:12229-1793163600-1793170800@www.plrivieradiponente.it
SUMMARY:Loano pulizia strade Via Aurelia  (da Via Carducci a Via Pontassi) L.re Marconi)
DESCRIPTION:
URL:http://www.plrivieradiponente.it/evento/loano-pulizia-strade-via-aurelia-da-via-carducci-a-via-pontassi-l-re-marconi/2026-10-28/
CATEGORIES:Divieto di sosta Loano
END:VEVENT
BEGIN:VEVENT
DTSTART;TZID=UTC:20261104T050000
DTEND;TZID=UTC:20261104T070000
DTSTAMP:20260423T235902
CREATED:20200718T173549Z
LAST-MODIFIED:20200718T173549Z
UID:12253-1793768400-1793775600@www.plrivieradiponente.it
SUMMARY:Loano pulizia strade Via Aurelia  (da Via Carducci a Via Pontassi) L.re Marconi)
DESCRIPTION:
URL:http://www.plrivieradiponente.it/evento/loano-pulizia-strade-via-aurelia-da-via-carducci-a-via-pontassi-l-re-marconi/2026-11-04/
CATEGORIES:Divieto di sosta Loano
END:VEVENT
BEGIN:VEVENT
DTSTART;TZID=UTC:20261111T050000
DTEND;TZID=UTC:20261111T070000
DTSTAMP:20260423T235902
CREATED:20200718T173549Z
LAST-MODIFIED:20200718T173549Z
UID:12275-1794373200-1794380400@www.plrivieradiponente.it
SUMMARY:Loano pulizia strade Via Aurelia  (da Via Carducci a Via Pontassi) L.re Marconi)
DESCRIPTION:
URL:http://www.plrivieradiponente.it/evento/loano-pulizia-strade-via-aurelia-da-via-carducci-a-via-pontassi-l-re-marconi/2026-11-11/
CATEGORIES:Divieto di sosta Loano
END:VEVENT
BEGIN:VEVENT
DTSTART;TZID=UTC:20261118T050000
DTEND;TZID=UTC:20261118T070000
DTSTAMP:20260423T235902
CREATED:20200718T173549Z
LAST-MODIFIED:20200718T173549Z
UID:12305-1794978000-1794985200@www.plrivieradiponente.it
SUMMARY:Loano pulizia strade Via Aurelia  (da Via Carducci a Via Pontassi) L.re Marconi)
DESCRIPTION:
URL:http://www.plrivieradiponente.it/evento/loano-pulizia-strade-via-aurelia-da-via-carducci-a-via-pontassi-l-re-marconi/2026-11-18/
CATEGORIES:Divieto di sosta Loano
END:VEVENT
BEGIN:VEVENT
DTSTART;TZID=UTC:20261125T050000
DTEND;TZID=UTC:20261125T070000
DTSTAMP:20260423T235902
CREATED:20200718T173549Z
LAST-MODIFIED:20200718T173549Z
UID:12329-1795582800-1795590000@www.plrivieradiponente.it
SUMMARY:Loano pulizia strade Via Aurelia  (da Via Carducci a Via Pontassi) L.re Marconi)
DESCRIPTION:
URL:http://www.plrivieradiponente.it/evento/loano-pulizia-strade-via-aurelia-da-via-carducci-a-via-pontassi-l-re-marconi/2026-11-25/
CATEGORIES:Divieto di sosta Loano
END:VEVENT
BEGIN:VEVENT
DTSTART;TZID=UTC:20261202T050000
DTEND;TZID=UTC:20261202T070000
DTSTAMP:20260423T235902
CREATED:20200718T173549Z
LAST-MODIFIED:20200718T173549Z
UID:12352-1796187600-1796194800@www.plrivieradiponente.it
SUMMARY:Loano pulizia strade Via Aurelia  (da Via Carducci a Via Pontassi) L.re Marconi)
DESCRIPTION:
URL:http://www.plrivieradiponente.it/evento/loano-pulizia-strade-via-aurelia-da-via-carducci-a-via-pontassi-l-re-marconi/2026-12-02/
CATEGORIES:Divieto di sosta Loano
END:VEVENT
END:VCALENDAR