BEGIN:VCALENDAR
VERSION:2.0
PRODID:-//Polizia Locale Riviera di Ponente - ECPv6.7.0//NONSGML v1.0//EN
CALSCALE:GREGORIAN
METHOD:PUBLISH
X-ORIGINAL-URL:http://www.plrivieradiponente.it
X-WR-CALDESC:Eventi per Polizia Locale Riviera di Ponente
REFRESH-INTERVAL;VALUE=DURATION:PT1H
X-Robots-Tag:noindex
X-PUBLISHED-TTL:PT1H
BEGIN:VTIMEZONE
TZID:UTC
BEGIN:STANDARD
TZOFFSETFROM:+0000
TZOFFSETTO:+0000
TZNAME:UTC
DTSTART:20250101T000000
END:STANDARD
END:VTIMEZONE
BEGIN:VEVENT
DTSTART;TZID=UTC:20260415T060000
DTEND;TZID=UTC:20260415T080000
DTSTAMP:20260421T130423
CREATED:20200718T181932Z
LAST-MODIFIED:20200718T181932Z
UID:11565-1776232800-1776240000@www.plrivieradiponente.it
SUMMARY:Loano pulizia strade Via Aurelia  (da Via Minniti a Via dei Gazzi)  P.le Cai
DESCRIPTION:
URL:http://www.plrivieradiponente.it/evento/loano-pulizia-strade-via-aurelia-da-via-minniti-a-via-dei-gazzi-p-le-cai/2026-04-15/
CATEGORIES:Divieto di sosta Loano
END:VEVENT
BEGIN:VEVENT
DTSTART;TZID=UTC:20260408T060000
DTEND;TZID=UTC:20260408T080000
DTSTAMP:20260421T130423
CREATED:20200718T181932Z
LAST-MODIFIED:20200718T181932Z
UID:11480-1775628000-1775635200@www.plrivieradiponente.it
SUMMARY:Loano pulizia strade Via Aurelia  (da Via Minniti a Via dei Gazzi)  P.le Cai
DESCRIPTION:
URL:http://www.plrivieradiponente.it/evento/loano-pulizia-strade-via-aurelia-da-via-minniti-a-via-dei-gazzi-p-le-cai/2026-04-08/
CATEGORIES:Divieto di sosta Loano
END:VEVENT
BEGIN:VEVENT
DTSTART;TZID=UTC:20260401T060000
DTEND;TZID=UTC:20260401T080000
DTSTAMP:20260421T130423
CREATED:20200718T181932Z
LAST-MODIFIED:20200718T181932Z
UID:11428-1775023200-1775030400@www.plrivieradiponente.it
SUMMARY:Loano pulizia strade Via Aurelia  (da Via Minniti a Via dei Gazzi)  P.le Cai
DESCRIPTION:
URL:http://www.plrivieradiponente.it/evento/loano-pulizia-strade-via-aurelia-da-via-minniti-a-via-dei-gazzi-p-le-cai/2026-04-01/
CATEGORIES:Divieto di sosta Loano
END:VEVENT
BEGIN:VEVENT
DTSTART;TZID=UTC:20260325T060000
DTEND;TZID=UTC:20260325T080000
DTSTAMP:20260421T130423
CREATED:20200718T181932Z
LAST-MODIFIED:20200718T181932Z
UID:11407-1774418400-1774425600@www.plrivieradiponente.it
SUMMARY:Loano pulizia strade Via Aurelia  (da Via Minniti a Via dei Gazzi)  P.le Cai
DESCRIPTION:
URL:http://www.plrivieradiponente.it/evento/loano-pulizia-strade-via-aurelia-da-via-minniti-a-via-dei-gazzi-p-le-cai/2026-03-25/
CATEGORIES:Divieto di sosta Loano
END:VEVENT
BEGIN:VEVENT
DTSTART;TZID=UTC:20260318T060000
DTEND;TZID=UTC:20260318T080000
DTSTAMP:20260421T130423
CREATED:20200718T181932Z
LAST-MODIFIED:20200718T181932Z
UID:11390-1773813600-1773820800@www.plrivieradiponente.it
SUMMARY:Loano pulizia strade Via Aurelia  (da Via Minniti a Via dei Gazzi)  P.le Cai
DESCRIPTION:
URL:http://www.plrivieradiponente.it/evento/loano-pulizia-strade-via-aurelia-da-via-minniti-a-via-dei-gazzi-p-le-cai/2026-03-18/
CATEGORIES:Divieto di sosta Loano
END:VEVENT
BEGIN:VEVENT
DTSTART;TZID=UTC:20260311T060000
DTEND;TZID=UTC:20260311T080000
DTSTAMP:20260421T130423
CREATED:20200718T181932Z
LAST-MODIFIED:20200718T181932Z
UID:11353-1773208800-1773216000@www.plrivieradiponente.it
SUMMARY:Loano pulizia strade Via Aurelia  (da Via Minniti a Via dei Gazzi)  P.le Cai
DESCRIPTION:
URL:http://www.plrivieradiponente.it/evento/loano-pulizia-strade-via-aurelia-da-via-minniti-a-via-dei-gazzi-p-le-cai/2026-03-11/
CATEGORIES:Divieto di sosta Loano
END:VEVENT
BEGIN:VEVENT
DTSTART;TZID=UTC:20260304T060000
DTEND;TZID=UTC:20260304T080000
DTSTAMP:20260421T130423
CREATED:20200718T181932Z
LAST-MODIFIED:20200718T181932Z
UID:11297-1772604000-1772611200@www.plrivieradiponente.it
SUMMARY:Loano pulizia strade Via Aurelia  (da Via Minniti a Via dei Gazzi)  P.le Cai
DESCRIPTION:
URL:http://www.plrivieradiponente.it/evento/loano-pulizia-strade-via-aurelia-da-via-minniti-a-via-dei-gazzi-p-le-cai/2026-03-04/
CATEGORIES:Divieto di sosta Loano
END:VEVENT
BEGIN:VEVENT
DTSTART;TZID=UTC:20260225T060000
DTEND;TZID=UTC:20260225T080000
DTSTAMP:20260421T130423
CREATED:20200718T181932Z
LAST-MODIFIED:20200718T181932Z
UID:11268-1771999200-1772006400@www.plrivieradiponente.it
SUMMARY:Loano pulizia strade Via Aurelia  (da Via Minniti a Via dei Gazzi)  P.le Cai
DESCRIPTION:
URL:http://www.plrivieradiponente.it/evento/loano-pulizia-strade-via-aurelia-da-via-minniti-a-via-dei-gazzi-p-le-cai/2026-02-25/
CATEGORIES:Divieto di sosta Loano
END:VEVENT
BEGIN:VEVENT
DTSTART;TZID=UTC:20260218T060000
DTEND;TZID=UTC:20260218T080000
DTSTAMP:20260421T130423
CREATED:20200718T181932Z
LAST-MODIFIED:20200718T181932Z
UID:11241-1771394400-1771401600@www.plrivieradiponente.it
SUMMARY:Loano pulizia strade Via Aurelia  (da Via Minniti a Via dei Gazzi)  P.le Cai
DESCRIPTION:
URL:http://www.plrivieradiponente.it/evento/loano-pulizia-strade-via-aurelia-da-via-minniti-a-via-dei-gazzi-p-le-cai/2026-02-18/
CATEGORIES:Divieto di sosta Loano
END:VEVENT
BEGIN:VEVENT
DTSTART;TZID=UTC:20260211T060000
DTEND;TZID=UTC:20260211T080000
DTSTAMP:20260421T130423
CREATED:20200718T181932Z
LAST-MODIFIED:20200718T181932Z
UID:11218-1770789600-1770796800@www.plrivieradiponente.it
SUMMARY:Loano pulizia strade Via Aurelia  (da Via Minniti a Via dei Gazzi)  P.le Cai
DESCRIPTION:
URL:http://www.plrivieradiponente.it/evento/loano-pulizia-strade-via-aurelia-da-via-minniti-a-via-dei-gazzi-p-le-cai/2026-02-11/
CATEGORIES:Divieto di sosta Loano
END:VEVENT
BEGIN:VEVENT
DTSTART;TZID=UTC:20260204T060000
DTEND;TZID=UTC:20260204T080000
DTSTAMP:20260421T130423
CREATED:20200718T181932Z
LAST-MODIFIED:20200718T181932Z
UID:11202-1770184800-1770192000@www.plrivieradiponente.it
SUMMARY:Loano pulizia strade Via Aurelia  (da Via Minniti a Via dei Gazzi)  P.le Cai
DESCRIPTION:
URL:http://www.plrivieradiponente.it/evento/loano-pulizia-strade-via-aurelia-da-via-minniti-a-via-dei-gazzi-p-le-cai/2026-02-04/
CATEGORIES:Divieto di sosta Loano
END:VEVENT
BEGIN:VEVENT
DTSTART;TZID=UTC:20260128T060000
DTEND;TZID=UTC:20260128T080000
DTSTAMP:20260421T130423
CREATED:20200718T181932Z
LAST-MODIFIED:20200718T181932Z
UID:11172-1769580000-1769587200@www.plrivieradiponente.it
SUMMARY:Loano pulizia strade Via Aurelia  (da Via Minniti a Via dei Gazzi)  P.le Cai
DESCRIPTION:
URL:http://www.plrivieradiponente.it/evento/loano-pulizia-strade-via-aurelia-da-via-minniti-a-via-dei-gazzi-p-le-cai/2026-01-28/
CATEGORIES:Divieto di sosta Loano
END:VEVENT
BEGIN:VEVENT
DTSTART;TZID=UTC:20260121T060000
DTEND;TZID=UTC:20260121T080000
DTSTAMP:20260421T130423
CREATED:20200718T181932Z
LAST-MODIFIED:20200718T181932Z
UID:11156-1768975200-1768982400@www.plrivieradiponente.it
SUMMARY:Loano pulizia strade Via Aurelia  (da Via Minniti a Via dei Gazzi)  P.le Cai
DESCRIPTION:
URL:http://www.plrivieradiponente.it/evento/loano-pulizia-strade-via-aurelia-da-via-minniti-a-via-dei-gazzi-p-le-cai/2026-01-21/
CATEGORIES:Divieto di sosta Loano
END:VEVENT
BEGIN:VEVENT
DTSTART;TZID=UTC:20260114T060000
DTEND;TZID=UTC:20260114T080000
DTSTAMP:20260421T130423
CREATED:20200718T181932Z
LAST-MODIFIED:20200718T181932Z
UID:11140-1768370400-1768377600@www.plrivieradiponente.it
SUMMARY:Loano pulizia strade Via Aurelia  (da Via Minniti a Via dei Gazzi)  P.le Cai
DESCRIPTION:
URL:http://www.plrivieradiponente.it/evento/loano-pulizia-strade-via-aurelia-da-via-minniti-a-via-dei-gazzi-p-le-cai/2026-01-14/
CATEGORIES:Divieto di sosta Loano
END:VEVENT
BEGIN:VEVENT
DTSTART;TZID=UTC:20260107T060000
DTEND;TZID=UTC:20260107T080000
DTSTAMP:20260421T130423
CREATED:20200718T181932Z
LAST-MODIFIED:20200718T181932Z
UID:11124-1767765600-1767772800@www.plrivieradiponente.it
SUMMARY:Loano pulizia strade Via Aurelia  (da Via Minniti a Via dei Gazzi)  P.le Cai
DESCRIPTION:
URL:http://www.plrivieradiponente.it/evento/loano-pulizia-strade-via-aurelia-da-via-minniti-a-via-dei-gazzi-p-le-cai/2026-01-07/
CATEGORIES:Divieto di sosta Loano
END:VEVENT
BEGIN:VEVENT
DTSTART;TZID=UTC:20251231T060000
DTEND;TZID=UTC:20251231T080000
DTSTAMP:20260421T130423
CREATED:20200718T181932Z
LAST-MODIFIED:20200718T181932Z
UID:11100-1767160800-1767168000@www.plrivieradiponente.it
SUMMARY:Loano pulizia strade Via Aurelia  (da Via Minniti a Via dei Gazzi)  P.le Cai
DESCRIPTION:
URL:http://www.plrivieradiponente.it/evento/loano-pulizia-strade-via-aurelia-da-via-minniti-a-via-dei-gazzi-p-le-cai/2025-12-31/
CATEGORIES:Divieto di sosta Loano
END:VEVENT
BEGIN:VEVENT
DTSTART;TZID=UTC:20251224T060000
DTEND;TZID=UTC:20251224T080000
DTSTAMP:20260421T130423
CREATED:20200718T181932Z
LAST-MODIFIED:20200718T181932Z
UID:11072-1766556000-1766563200@www.plrivieradiponente.it
SUMMARY:Loano pulizia strade Via Aurelia  (da Via Minniti a Via dei Gazzi)  P.le Cai
DESCRIPTION:
URL:http://www.plrivieradiponente.it/evento/loano-pulizia-strade-via-aurelia-da-via-minniti-a-via-dei-gazzi-p-le-cai/2025-12-24/
CATEGORIES:Divieto di sosta Loano
END:VEVENT
BEGIN:VEVENT
DTSTART;TZID=UTC:20251217T060000
DTEND;TZID=UTC:20251217T080000
DTSTAMP:20260421T130423
CREATED:20200718T181932Z
LAST-MODIFIED:20200718T181932Z
UID:11056-1765951200-1765958400@www.plrivieradiponente.it
SUMMARY:Loano pulizia strade Via Aurelia  (da Via Minniti a Via dei Gazzi)  P.le Cai
DESCRIPTION:
URL:http://www.plrivieradiponente.it/evento/loano-pulizia-strade-via-aurelia-da-via-minniti-a-via-dei-gazzi-p-le-cai/2025-12-17/
CATEGORIES:Divieto di sosta Loano
END:VEVENT
BEGIN:VEVENT
DTSTART;TZID=UTC:20251210T060000
DTEND;TZID=UTC:20251210T080000
DTSTAMP:20260421T130423
CREATED:20200718T181932Z
LAST-MODIFIED:20200718T181932Z
UID:11040-1765346400-1765353600@www.plrivieradiponente.it
SUMMARY:Loano pulizia strade Via Aurelia  (da Via Minniti a Via dei Gazzi)  P.le Cai
DESCRIPTION:
URL:http://www.plrivieradiponente.it/evento/loano-pulizia-strade-via-aurelia-da-via-minniti-a-via-dei-gazzi-p-le-cai/2025-12-10/
CATEGORIES:Divieto di sosta Loano
END:VEVENT
BEGIN:VEVENT
DTSTART;TZID=UTC:20251203T060000
DTEND;TZID=UTC:20251203T080000
DTSTAMP:20260421T130423
CREATED:20200718T181932Z
LAST-MODIFIED:20200718T181932Z
UID:11024-1764741600-1764748800@www.plrivieradiponente.it
SUMMARY:Loano pulizia strade Via Aurelia  (da Via Minniti a Via dei Gazzi)  P.le Cai
DESCRIPTION:
URL:http://www.plrivieradiponente.it/evento/loano-pulizia-strade-via-aurelia-da-via-minniti-a-via-dei-gazzi-p-le-cai/2025-12-03/
CATEGORIES:Divieto di sosta Loano
END:VEVENT
BEGIN:VEVENT
DTSTART;TZID=UTC:20251126T060000
DTEND;TZID=UTC:20251126T080000
DTSTAMP:20260421T130423
CREATED:20200718T181932Z
LAST-MODIFIED:20200718T181932Z
UID:11000-1764136800-1764144000@www.plrivieradiponente.it
SUMMARY:Loano pulizia strade Via Aurelia  (da Via Minniti a Via dei Gazzi)  P.le Cai
DESCRIPTION:
URL:http://www.plrivieradiponente.it/evento/loano-pulizia-strade-via-aurelia-da-via-minniti-a-via-dei-gazzi-p-le-cai/2025-11-26/
CATEGORIES:Divieto di sosta Loano
END:VEVENT
BEGIN:VEVENT
DTSTART;TZID=UTC:20251119T060000
DTEND;TZID=UTC:20251119T080000
DTSTAMP:20260421T130423
CREATED:20200718T181932Z
LAST-MODIFIED:20200718T181932Z
UID:10983-1763532000-1763539200@www.plrivieradiponente.it
SUMMARY:Loano pulizia strade Via Aurelia  (da Via Minniti a Via dei Gazzi)  P.le Cai
DESCRIPTION:
URL:http://www.plrivieradiponente.it/evento/loano-pulizia-strade-via-aurelia-da-via-minniti-a-via-dei-gazzi-p-le-cai/2025-11-19/
CATEGORIES:Divieto di sosta Loano
END:VEVENT
BEGIN:VEVENT
DTSTART;TZID=UTC:20251112T060000
DTEND;TZID=UTC:20251112T080000
DTSTAMP:20260421T130423
CREATED:20200718T181932Z
LAST-MODIFIED:20200718T181932Z
UID:10963-1762927200-1762934400@www.plrivieradiponente.it
SUMMARY:Loano pulizia strade Via Aurelia  (da Via Minniti a Via dei Gazzi)  P.le Cai
DESCRIPTION:
URL:http://www.plrivieradiponente.it/evento/loano-pulizia-strade-via-aurelia-da-via-minniti-a-via-dei-gazzi-p-le-cai/2025-11-12/
CATEGORIES:Divieto di sosta Loano
END:VEVENT
BEGIN:VEVENT
DTSTART;TZID=UTC:20251105T060000
DTEND;TZID=UTC:20251105T080000
DTSTAMP:20260421T130423
CREATED:20200718T181932Z
LAST-MODIFIED:20200718T181932Z
UID:10937-1762322400-1762329600@www.plrivieradiponente.it
SUMMARY:Loano pulizia strade Via Aurelia  (da Via Minniti a Via dei Gazzi)  P.le Cai
DESCRIPTION:
URL:http://www.plrivieradiponente.it/evento/loano-pulizia-strade-via-aurelia-da-via-minniti-a-via-dei-gazzi-p-le-cai/2025-11-05/
CATEGORIES:Divieto di sosta Loano
END:VEVENT
BEGIN:VEVENT
DTSTART;TZID=UTC:20251029T060000
DTEND;TZID=UTC:20251029T080000
DTSTAMP:20260421T130423
CREATED:20200718T181932Z
LAST-MODIFIED:20200718T181932Z
UID:10913-1761717600-1761724800@www.plrivieradiponente.it
SUMMARY:Loano pulizia strade Via Aurelia  (da Via Minniti a Via dei Gazzi)  P.le Cai
DESCRIPTION:
URL:http://www.plrivieradiponente.it/evento/loano-pulizia-strade-via-aurelia-da-via-minniti-a-via-dei-gazzi-p-le-cai/2025-10-29/
CATEGORIES:Divieto di sosta Loano
END:VEVENT
BEGIN:VEVENT
DTSTART;TZID=UTC:20251022T060000
DTEND;TZID=UTC:20251022T080000
DTSTAMP:20260421T130423
CREATED:20200718T181932Z
LAST-MODIFIED:20200718T181932Z
UID:10895-1761112800-1761120000@www.plrivieradiponente.it
SUMMARY:Loano pulizia strade Via Aurelia  (da Via Minniti a Via dei Gazzi)  P.le Cai
DESCRIPTION:
URL:http://www.plrivieradiponente.it/evento/loano-pulizia-strade-via-aurelia-da-via-minniti-a-via-dei-gazzi-p-le-cai/2025-10-22/
CATEGORIES:Divieto di sosta Loano
END:VEVENT
BEGIN:VEVENT
DTSTART;TZID=UTC:20251015T060000
DTEND;TZID=UTC:20251015T080000
DTSTAMP:20260421T130423
CREATED:20200718T181932Z
LAST-MODIFIED:20200718T181932Z
UID:10875-1760508000-1760515200@www.plrivieradiponente.it
SUMMARY:Loano pulizia strade Via Aurelia  (da Via Minniti a Via dei Gazzi)  P.le Cai
DESCRIPTION:
URL:http://www.plrivieradiponente.it/evento/loano-pulizia-strade-via-aurelia-da-via-minniti-a-via-dei-gazzi-p-le-cai/2025-10-15/
CATEGORIES:Divieto di sosta Loano
END:VEVENT
BEGIN:VEVENT
DTSTART;TZID=UTC:20251008T060000
DTEND;TZID=UTC:20251008T080000
DTSTAMP:20260421T130423
CREATED:20200718T181932Z
LAST-MODIFIED:20200718T181932Z
UID:10859-1759903200-1759910400@www.plrivieradiponente.it
SUMMARY:Loano pulizia strade Via Aurelia  (da Via Minniti a Via dei Gazzi)  P.le Cai
DESCRIPTION:
URL:http://www.plrivieradiponente.it/evento/loano-pulizia-strade-via-aurelia-da-via-minniti-a-via-dei-gazzi-p-le-cai/2025-10-08/
CATEGORIES:Divieto di sosta Loano
END:VEVENT
BEGIN:VEVENT
DTSTART;TZID=UTC:20251001T060000
DTEND;TZID=UTC:20251001T080000
DTSTAMP:20260421T130423
CREATED:20200718T181932Z
LAST-MODIFIED:20200718T181932Z
UID:10834-1759298400-1759305600@www.plrivieradiponente.it
SUMMARY:Loano pulizia strade Via Aurelia  (da Via Minniti a Via dei Gazzi)  P.le Cai
DESCRIPTION:
URL:http://www.plrivieradiponente.it/evento/loano-pulizia-strade-via-aurelia-da-via-minniti-a-via-dei-gazzi-p-le-cai/2025-10-01/
CATEGORIES:Divieto di sosta Loano
END:VEVENT
BEGIN:VEVENT
DTSTART;TZID=UTC:20250924T060000
DTEND;TZID=UTC:20250924T080000
DTSTAMP:20260421T130423
CREATED:20200718T181932Z
LAST-MODIFIED:20200718T181932Z
UID:10805-1758693600-1758700800@www.plrivieradiponente.it
SUMMARY:Loano pulizia strade Via Aurelia  (da Via Minniti a Via dei Gazzi)  P.le Cai
DESCRIPTION:
URL:http://www.plrivieradiponente.it/evento/loano-pulizia-strade-via-aurelia-da-via-minniti-a-via-dei-gazzi-p-le-cai/2025-09-24/
CATEGORIES:Divieto di sosta Loano
END:VEVENT
END:VCALENDAR