BEGIN:VCALENDAR
VERSION:2.0
PRODID:-//Polizia Locale Riviera di Ponente - ECPv6.7.0//NONSGML v1.0//EN
CALSCALE:GREGORIAN
METHOD:PUBLISH
X-WR-CALNAME:Polizia Locale Riviera di Ponente
X-ORIGINAL-URL:http://www.plrivieradiponente.it
X-WR-CALDESC:Eventi per Polizia Locale Riviera di Ponente
REFRESH-INTERVAL;VALUE=DURATION:PT1H
X-Robots-Tag:noindex
X-PUBLISHED-TTL:PT1H
BEGIN:VTIMEZONE
TZID:UTC
BEGIN:STANDARD
TZOFFSETFROM:+0000
TZOFFSETTO:+0000
TZNAME:UTC
DTSTART:20260101T000000
END:STANDARD
END:VTIMEZONE
BEGIN:VEVENT
DTSTART;TZID=UTC:20260422T060000
DTEND;TZID=UTC:20260422T080000
DTSTAMP:20260421T112726
CREATED:20200718T181932Z
LAST-MODIFIED:20200718T181932Z
UID:11582-1776837600-1776844800@www.plrivieradiponente.it
SUMMARY:Loano pulizia strade Via Aurelia  (da Via Minniti a Via dei Gazzi)  P.le Cai
DESCRIPTION:
URL:http://www.plrivieradiponente.it/evento/loano-pulizia-strade-via-aurelia-da-via-minniti-a-via-dei-gazzi-p-le-cai/2026-04-22/
CATEGORIES:Divieto di sosta Loano
END:VEVENT
BEGIN:VEVENT
DTSTART;TZID=UTC:20260429T060000
DTEND;TZID=UTC:20260429T080000
DTSTAMP:20260421T112726
CREATED:20200718T181932Z
LAST-MODIFIED:20200718T181932Z
UID:11609-1777442400-1777449600@www.plrivieradiponente.it
SUMMARY:Loano pulizia strade Via Aurelia  (da Via Minniti a Via dei Gazzi)  P.le Cai
DESCRIPTION:
URL:http://www.plrivieradiponente.it/evento/loano-pulizia-strade-via-aurelia-da-via-minniti-a-via-dei-gazzi-p-le-cai/2026-04-29/
CATEGORIES:Divieto di sosta Loano
END:VEVENT
BEGIN:VEVENT
DTSTART;TZID=UTC:20260506T060000
DTEND;TZID=UTC:20260506T080000
DTSTAMP:20260421T112726
CREATED:20200718T181932Z
LAST-MODIFIED:20200718T181932Z
UID:11633-1778047200-1778054400@www.plrivieradiponente.it
SUMMARY:Loano pulizia strade Via Aurelia  (da Via Minniti a Via dei Gazzi)  P.le Cai
DESCRIPTION:
URL:http://www.plrivieradiponente.it/evento/loano-pulizia-strade-via-aurelia-da-via-minniti-a-via-dei-gazzi-p-le-cai/2026-05-06/
CATEGORIES:Divieto di sosta Loano
END:VEVENT
BEGIN:VEVENT
DTSTART;TZID=UTC:20260513T060000
DTEND;TZID=UTC:20260513T080000
DTSTAMP:20260421T112726
CREATED:20200718T181932Z
LAST-MODIFIED:20200718T181932Z
UID:11650-1778652000-1778659200@www.plrivieradiponente.it
SUMMARY:Loano pulizia strade Via Aurelia  (da Via Minniti a Via dei Gazzi)  P.le Cai
DESCRIPTION:
URL:http://www.plrivieradiponente.it/evento/loano-pulizia-strade-via-aurelia-da-via-minniti-a-via-dei-gazzi-p-le-cai/2026-05-13/
CATEGORIES:Divieto di sosta Loano
END:VEVENT
BEGIN:VEVENT
DTSTART;TZID=UTC:20260520T060000
DTEND;TZID=UTC:20260520T080000
DTSTAMP:20260421T112726
CREATED:20200718T181932Z
LAST-MODIFIED:20200718T181932Z
UID:11666-1779256800-1779264000@www.plrivieradiponente.it
SUMMARY:Loano pulizia strade Via Aurelia  (da Via Minniti a Via dei Gazzi)  P.le Cai
DESCRIPTION:
URL:http://www.plrivieradiponente.it/evento/loano-pulizia-strade-via-aurelia-da-via-minniti-a-via-dei-gazzi-p-le-cai/2026-05-20/
CATEGORIES:Divieto di sosta Loano
END:VEVENT
BEGIN:VEVENT
DTSTART;TZID=UTC:20260527T060000
DTEND;TZID=UTC:20260527T080000
DTSTAMP:20260421T112726
CREATED:20200718T181932Z
LAST-MODIFIED:20200718T181932Z
UID:11682-1779861600-1779868800@www.plrivieradiponente.it
SUMMARY:Loano pulizia strade Via Aurelia  (da Via Minniti a Via dei Gazzi)  P.le Cai
DESCRIPTION:
URL:http://www.plrivieradiponente.it/evento/loano-pulizia-strade-via-aurelia-da-via-minniti-a-via-dei-gazzi-p-le-cai/2026-05-27/
CATEGORIES:Divieto di sosta Loano
END:VEVENT
BEGIN:VEVENT
DTSTART;TZID=UTC:20260603T060000
DTEND;TZID=UTC:20260603T080000
DTSTAMP:20260421T112726
CREATED:20200718T181932Z
LAST-MODIFIED:20200718T181932Z
UID:11708-1780466400-1780473600@www.plrivieradiponente.it
SUMMARY:Loano pulizia strade Via Aurelia  (da Via Minniti a Via dei Gazzi)  P.le Cai
DESCRIPTION:
URL:http://www.plrivieradiponente.it/evento/loano-pulizia-strade-via-aurelia-da-via-minniti-a-via-dei-gazzi-p-le-cai/2026-06-03/
CATEGORIES:Divieto di sosta Loano
END:VEVENT
BEGIN:VEVENT
DTSTART;TZID=UTC:20260610T060000
DTEND;TZID=UTC:20260610T080000
DTSTAMP:20260421T112726
CREATED:20200718T181932Z
LAST-MODIFIED:20200718T181932Z
UID:11748-1781071200-1781078400@www.plrivieradiponente.it
SUMMARY:Loano pulizia strade Via Aurelia  (da Via Minniti a Via dei Gazzi)  P.le Cai
DESCRIPTION:
URL:http://www.plrivieradiponente.it/evento/loano-pulizia-strade-via-aurelia-da-via-minniti-a-via-dei-gazzi-p-le-cai/2026-06-10/
CATEGORIES:Divieto di sosta Loano
END:VEVENT
BEGIN:VEVENT
DTSTART;TZID=UTC:20260617T060000
DTEND;TZID=UTC:20260617T080000
DTSTAMP:20260421T112726
CREATED:20200718T181932Z
LAST-MODIFIED:20200718T181932Z
UID:11765-1781676000-1781683200@www.plrivieradiponente.it
SUMMARY:Loano pulizia strade Via Aurelia  (da Via Minniti a Via dei Gazzi)  P.le Cai
DESCRIPTION:
URL:http://www.plrivieradiponente.it/evento/loano-pulizia-strade-via-aurelia-da-via-minniti-a-via-dei-gazzi-p-le-cai/2026-06-17/
CATEGORIES:Divieto di sosta Loano
END:VEVENT
BEGIN:VEVENT
DTSTART;TZID=UTC:20260624T060000
DTEND;TZID=UTC:20260624T080000
DTSTAMP:20260421T112726
CREATED:20200718T181932Z
LAST-MODIFIED:20200718T181932Z
UID:11793-1782280800-1782288000@www.plrivieradiponente.it
SUMMARY:Loano pulizia strade Via Aurelia  (da Via Minniti a Via dei Gazzi)  P.le Cai
DESCRIPTION:
URL:http://www.plrivieradiponente.it/evento/loano-pulizia-strade-via-aurelia-da-via-minniti-a-via-dei-gazzi-p-le-cai/2026-06-24/
CATEGORIES:Divieto di sosta Loano
END:VEVENT
BEGIN:VEVENT
DTSTART;TZID=UTC:20260701T060000
DTEND;TZID=UTC:20260701T080000
DTSTAMP:20260421T112726
CREATED:20200718T181932Z
LAST-MODIFIED:20200718T181932Z
UID:11813-1782885600-1782892800@www.plrivieradiponente.it
SUMMARY:Loano pulizia strade Via Aurelia  (da Via Minniti a Via dei Gazzi)  P.le Cai
DESCRIPTION:
URL:http://www.plrivieradiponente.it/evento/loano-pulizia-strade-via-aurelia-da-via-minniti-a-via-dei-gazzi-p-le-cai/2026-07-01/
CATEGORIES:Divieto di sosta Loano
END:VEVENT
BEGIN:VEVENT
DTSTART;TZID=UTC:20260708T060000
DTEND;TZID=UTC:20260708T080000
DTSTAMP:20260421T112726
CREATED:20200718T181932Z
LAST-MODIFIED:20200718T181932Z
UID:11833-1783490400-1783497600@www.plrivieradiponente.it
SUMMARY:Loano pulizia strade Via Aurelia  (da Via Minniti a Via dei Gazzi)  P.le Cai
DESCRIPTION:
URL:http://www.plrivieradiponente.it/evento/loano-pulizia-strade-via-aurelia-da-via-minniti-a-via-dei-gazzi-p-le-cai/2026-07-08/
CATEGORIES:Divieto di sosta Loano
END:VEVENT
BEGIN:VEVENT
DTSTART;TZID=UTC:20260715T060000
DTEND;TZID=UTC:20260715T080000
DTSTAMP:20260421T112726
CREATED:20200718T181932Z
LAST-MODIFIED:20200718T181932Z
UID:11859-1784095200-1784102400@www.plrivieradiponente.it
SUMMARY:Loano pulizia strade Via Aurelia  (da Via Minniti a Via dei Gazzi)  P.le Cai
DESCRIPTION:
URL:http://www.plrivieradiponente.it/evento/loano-pulizia-strade-via-aurelia-da-via-minniti-a-via-dei-gazzi-p-le-cai/2026-07-15/
CATEGORIES:Divieto di sosta Loano
END:VEVENT
BEGIN:VEVENT
DTSTART;TZID=UTC:20260722T060000
DTEND;TZID=UTC:20260722T080000
DTSTAMP:20260421T112726
CREATED:20200718T181932Z
LAST-MODIFIED:20200718T181932Z
UID:11876-1784700000-1784707200@www.plrivieradiponente.it
SUMMARY:Loano pulizia strade Via Aurelia  (da Via Minniti a Via dei Gazzi)  P.le Cai
DESCRIPTION:
URL:http://www.plrivieradiponente.it/evento/loano-pulizia-strade-via-aurelia-da-via-minniti-a-via-dei-gazzi-p-le-cai/2026-07-22/
CATEGORIES:Divieto di sosta Loano
END:VEVENT
BEGIN:VEVENT
DTSTART;TZID=UTC:20260729T060000
DTEND;TZID=UTC:20260729T080000
DTSTAMP:20260421T112726
CREATED:20200718T181932Z
LAST-MODIFIED:20200718T181932Z
UID:11902-1785304800-1785312000@www.plrivieradiponente.it
SUMMARY:Loano pulizia strade Via Aurelia  (da Via Minniti a Via dei Gazzi)  P.le Cai
DESCRIPTION:
URL:http://www.plrivieradiponente.it/evento/loano-pulizia-strade-via-aurelia-da-via-minniti-a-via-dei-gazzi-p-le-cai/2026-07-29/
CATEGORIES:Divieto di sosta Loano
END:VEVENT
BEGIN:VEVENT
DTSTART;TZID=UTC:20260805T060000
DTEND;TZID=UTC:20260805T080000
DTSTAMP:20260421T112726
CREATED:20200718T181932Z
LAST-MODIFIED:20200718T181932Z
UID:11926-1785909600-1785916800@www.plrivieradiponente.it
SUMMARY:Loano pulizia strade Via Aurelia  (da Via Minniti a Via dei Gazzi)  P.le Cai
DESCRIPTION:
URL:http://www.plrivieradiponente.it/evento/loano-pulizia-strade-via-aurelia-da-via-minniti-a-via-dei-gazzi-p-le-cai/2026-08-05/
CATEGORIES:Divieto di sosta Loano
END:VEVENT
BEGIN:VEVENT
DTSTART;TZID=UTC:20260826T060000
DTEND;TZID=UTC:20260826T080000
DTSTAMP:20260421T112726
CREATED:20200718T181932Z
LAST-MODIFIED:20200718T181932Z
UID:11947-1787724000-1787731200@www.plrivieradiponente.it
SUMMARY:Loano pulizia strade Via Aurelia  (da Via Minniti a Via dei Gazzi)  P.le Cai
DESCRIPTION:
URL:http://www.plrivieradiponente.it/evento/loano-pulizia-strade-via-aurelia-da-via-minniti-a-via-dei-gazzi-p-le-cai/2026-08-26/
CATEGORIES:Divieto di sosta Loano
END:VEVENT
BEGIN:VEVENT
DTSTART;TZID=UTC:20260902T060000
DTEND;TZID=UTC:20260902T080000
DTSTAMP:20260421T112726
CREATED:20200718T181932Z
LAST-MODIFIED:20200718T181932Z
UID:11972-1788328800-1788336000@www.plrivieradiponente.it
SUMMARY:Loano pulizia strade Via Aurelia  (da Via Minniti a Via dei Gazzi)  P.le Cai
DESCRIPTION:
URL:http://www.plrivieradiponente.it/evento/loano-pulizia-strade-via-aurelia-da-via-minniti-a-via-dei-gazzi-p-le-cai/2026-09-02/
CATEGORIES:Divieto di sosta Loano
END:VEVENT
BEGIN:VEVENT
DTSTART;TZID=UTC:20260909T060000
DTEND;TZID=UTC:20260909T080000
DTSTAMP:20260421T112726
CREATED:20200718T181932Z
LAST-MODIFIED:20200718T181932Z
UID:11997-1788933600-1788940800@www.plrivieradiponente.it
SUMMARY:Loano pulizia strade Via Aurelia  (da Via Minniti a Via dei Gazzi)  P.le Cai
DESCRIPTION:
URL:http://www.plrivieradiponente.it/evento/loano-pulizia-strade-via-aurelia-da-via-minniti-a-via-dei-gazzi-p-le-cai/2026-09-09/
CATEGORIES:Divieto di sosta Loano
END:VEVENT
BEGIN:VEVENT
DTSTART;TZID=UTC:20260916T060000
DTEND;TZID=UTC:20260916T080000
DTSTAMP:20260421T112726
CREATED:20200718T181932Z
LAST-MODIFIED:20200718T181932Z
UID:12022-1789538400-1789545600@www.plrivieradiponente.it
SUMMARY:Loano pulizia strade Via Aurelia  (da Via Minniti a Via dei Gazzi)  P.le Cai
DESCRIPTION:
URL:http://www.plrivieradiponente.it/evento/loano-pulizia-strade-via-aurelia-da-via-minniti-a-via-dei-gazzi-p-le-cai/2026-09-16/
CATEGORIES:Divieto di sosta Loano
END:VEVENT
BEGIN:VEVENT
DTSTART;TZID=UTC:20260923T060000
DTEND;TZID=UTC:20260923T080000
DTSTAMP:20260421T112726
CREATED:20200718T181932Z
LAST-MODIFIED:20200718T181932Z
UID:12042-1790143200-1790150400@www.plrivieradiponente.it
SUMMARY:Loano pulizia strade Via Aurelia  (da Via Minniti a Via dei Gazzi)  P.le Cai
DESCRIPTION:
URL:http://www.plrivieradiponente.it/evento/loano-pulizia-strade-via-aurelia-da-via-minniti-a-via-dei-gazzi-p-le-cai/2026-09-23/
CATEGORIES:Divieto di sosta Loano
END:VEVENT
BEGIN:VEVENT
DTSTART;TZID=UTC:20260930T060000
DTEND;TZID=UTC:20260930T080000
DTSTAMP:20260421T112726
CREATED:20200718T181932Z
LAST-MODIFIED:20200718T181932Z
UID:12058-1790748000-1790755200@www.plrivieradiponente.it
SUMMARY:Loano pulizia strade Via Aurelia  (da Via Minniti a Via dei Gazzi)  P.le Cai
DESCRIPTION:
URL:http://www.plrivieradiponente.it/evento/loano-pulizia-strade-via-aurelia-da-via-minniti-a-via-dei-gazzi-p-le-cai/2026-09-30/
CATEGORIES:Divieto di sosta Loano
END:VEVENT
BEGIN:VEVENT
DTSTART;TZID=UTC:20261007T060000
DTEND;TZID=UTC:20261007T080000
DTSTAMP:20260421T112726
CREATED:20200718T181932Z
LAST-MODIFIED:20200718T181932Z
UID:12085-1791352800-1791360000@www.plrivieradiponente.it
SUMMARY:Loano pulizia strade Via Aurelia  (da Via Minniti a Via dei Gazzi)  P.le Cai
DESCRIPTION:
URL:http://www.plrivieradiponente.it/evento/loano-pulizia-strade-via-aurelia-da-via-minniti-a-via-dei-gazzi-p-le-cai/2026-10-07/
CATEGORIES:Divieto di sosta Loano
END:VEVENT
BEGIN:VEVENT
DTSTART;TZID=UTC:20261014T060000
DTEND;TZID=UTC:20261014T080000
DTSTAMP:20260421T112726
CREATED:20200718T181932Z
LAST-MODIFIED:20200718T181932Z
UID:12149-1791957600-1791964800@www.plrivieradiponente.it
SUMMARY:Loano pulizia strade Via Aurelia  (da Via Minniti a Via dei Gazzi)  P.le Cai
DESCRIPTION:
URL:http://www.plrivieradiponente.it/evento/loano-pulizia-strade-via-aurelia-da-via-minniti-a-via-dei-gazzi-p-le-cai/2026-10-14/
CATEGORIES:Divieto di sosta Loano
END:VEVENT
BEGIN:VEVENT
DTSTART;TZID=UTC:20261021T060000
DTEND;TZID=UTC:20261021T080000
DTSTAMP:20260421T112726
CREATED:20200718T181932Z
LAST-MODIFIED:20200718T181932Z
UID:12213-1792562400-1792569600@www.plrivieradiponente.it
SUMMARY:Loano pulizia strade Via Aurelia  (da Via Minniti a Via dei Gazzi)  P.le Cai
DESCRIPTION:
URL:http://www.plrivieradiponente.it/evento/loano-pulizia-strade-via-aurelia-da-via-minniti-a-via-dei-gazzi-p-le-cai/2026-10-21/
CATEGORIES:Divieto di sosta Loano
END:VEVENT
BEGIN:VEVENT
DTSTART;TZID=UTC:20261028T060000
DTEND;TZID=UTC:20261028T080000
DTSTAMP:20260421T112726
CREATED:20200718T181932Z
LAST-MODIFIED:20200718T181932Z
UID:12230-1793167200-1793174400@www.plrivieradiponente.it
SUMMARY:Loano pulizia strade Via Aurelia  (da Via Minniti a Via dei Gazzi)  P.le Cai
DESCRIPTION:
URL:http://www.plrivieradiponente.it/evento/loano-pulizia-strade-via-aurelia-da-via-minniti-a-via-dei-gazzi-p-le-cai/2026-10-28/
CATEGORIES:Divieto di sosta Loano
END:VEVENT
BEGIN:VEVENT
DTSTART;TZID=UTC:20261104T060000
DTEND;TZID=UTC:20261104T080000
DTSTAMP:20260421T112726
CREATED:20200718T181932Z
LAST-MODIFIED:20200718T181932Z
UID:12254-1793772000-1793779200@www.plrivieradiponente.it
SUMMARY:Loano pulizia strade Via Aurelia  (da Via Minniti a Via dei Gazzi)  P.le Cai
DESCRIPTION:
URL:http://www.plrivieradiponente.it/evento/loano-pulizia-strade-via-aurelia-da-via-minniti-a-via-dei-gazzi-p-le-cai/2026-11-04/
CATEGORIES:Divieto di sosta Loano
END:VEVENT
BEGIN:VEVENT
DTSTART;TZID=UTC:20261111T060000
DTEND;TZID=UTC:20261111T080000
DTSTAMP:20260421T112726
CREATED:20200718T181932Z
LAST-MODIFIED:20200718T181932Z
UID:12276-1794376800-1794384000@www.plrivieradiponente.it
SUMMARY:Loano pulizia strade Via Aurelia  (da Via Minniti a Via dei Gazzi)  P.le Cai
DESCRIPTION:
URL:http://www.plrivieradiponente.it/evento/loano-pulizia-strade-via-aurelia-da-via-minniti-a-via-dei-gazzi-p-le-cai/2026-11-11/
CATEGORIES:Divieto di sosta Loano
END:VEVENT
BEGIN:VEVENT
DTSTART;TZID=UTC:20261118T060000
DTEND;TZID=UTC:20261118T080000
DTSTAMP:20260421T112726
CREATED:20200718T181932Z
LAST-MODIFIED:20200718T181932Z
UID:12306-1794981600-1794988800@www.plrivieradiponente.it
SUMMARY:Loano pulizia strade Via Aurelia  (da Via Minniti a Via dei Gazzi)  P.le Cai
DESCRIPTION:
URL:http://www.plrivieradiponente.it/evento/loano-pulizia-strade-via-aurelia-da-via-minniti-a-via-dei-gazzi-p-le-cai/2026-11-18/
CATEGORIES:Divieto di sosta Loano
END:VEVENT
BEGIN:VEVENT
DTSTART;TZID=UTC:20261125T060000
DTEND;TZID=UTC:20261125T080000
DTSTAMP:20260421T112726
CREATED:20200718T181932Z
LAST-MODIFIED:20200718T181932Z
UID:12330-1795586400-1795593600@www.plrivieradiponente.it
SUMMARY:Loano pulizia strade Via Aurelia  (da Via Minniti a Via dei Gazzi)  P.le Cai
DESCRIPTION:
URL:http://www.plrivieradiponente.it/evento/loano-pulizia-strade-via-aurelia-da-via-minniti-a-via-dei-gazzi-p-le-cai/2026-11-25/
CATEGORIES:Divieto di sosta Loano
END:VEVENT
END:VCALENDAR