BEGIN:VCALENDAR
VERSION:2.0
PRODID:-//Polizia Locale Riviera di Ponente - ECPv6.7.0//NONSGML v1.0//EN
CALSCALE:GREGORIAN
METHOD:PUBLISH
X-ORIGINAL-URL:http://www.plrivieradiponente.it
X-WR-CALDESC:Eventi per Polizia Locale Riviera di Ponente
REFRESH-INTERVAL;VALUE=DURATION:PT1H
X-Robots-Tag:noindex
X-PUBLISHED-TTL:PT1H
BEGIN:VTIMEZONE
TZID:UTC
BEGIN:STANDARD
TZOFFSETFROM:+0000
TZOFFSETTO:+0000
TZNAME:UTC
DTSTART:20260101T000000
END:STANDARD
END:VTIMEZONE
BEGIN:VEVENT
DTSTART;TZID=UTC:20260506T050000
DTEND;TZID=UTC:20260506T070000
DTSTAMP:20260422T153338
CREATED:20200718T184207Z
LAST-MODIFIED:20200718T184207Z
UID:11628-1778043600-1778050800@www.plrivieradiponente.it
SUMMARY:Loano pulizia strade Via Gozzano - Via Dante
DESCRIPTION:
URL:http://www.plrivieradiponente.it/evento/loano-pulizia-strade-via-gozzano-via-dante/2026-05-06/
CATEGORIES:Divieto di sosta Loano
END:VEVENT
BEGIN:VEVENT
DTSTART;TZID=UTC:20260603T050000
DTEND;TZID=UTC:20260603T070000
DTSTAMP:20260422T153338
CREATED:20200718T184207Z
LAST-MODIFIED:20200718T184207Z
UID:11703-1780462800-1780470000@www.plrivieradiponente.it
SUMMARY:Loano pulizia strade Via Gozzano - Via Dante
DESCRIPTION:
URL:http://www.plrivieradiponente.it/evento/loano-pulizia-strade-via-gozzano-via-dante/2026-06-03/
CATEGORIES:Divieto di sosta Loano
END:VEVENT
BEGIN:VEVENT
DTSTART;TZID=UTC:20260701T050000
DTEND;TZID=UTC:20260701T070000
DTSTAMP:20260422T153338
CREATED:20200718T184207Z
LAST-MODIFIED:20200718T184207Z
UID:11808-1782882000-1782889200@www.plrivieradiponente.it
SUMMARY:Loano pulizia strade Via Gozzano - Via Dante
DESCRIPTION:
URL:http://www.plrivieradiponente.it/evento/loano-pulizia-strade-via-gozzano-via-dante/2026-07-01/
CATEGORIES:Divieto di sosta Loano
END:VEVENT
BEGIN:VEVENT
DTSTART;TZID=UTC:20260805T050000
DTEND;TZID=UTC:20260805T070000
DTSTAMP:20260422T153338
CREATED:20200718T184207Z
LAST-MODIFIED:20200718T184207Z
UID:11921-1785906000-1785913200@www.plrivieradiponente.it
SUMMARY:Loano pulizia strade Via Gozzano - Via Dante
DESCRIPTION:
URL:http://www.plrivieradiponente.it/evento/loano-pulizia-strade-via-gozzano-via-dante/2026-08-05/
CATEGORIES:Divieto di sosta Loano
END:VEVENT
BEGIN:VEVENT
DTSTART;TZID=UTC:20260902T050000
DTEND;TZID=UTC:20260902T070000
DTSTAMP:20260422T153338
CREATED:20200718T184207Z
LAST-MODIFIED:20200718T184207Z
UID:11967-1788325200-1788332400@www.plrivieradiponente.it
SUMMARY:Loano pulizia strade Via Gozzano - Via Dante
DESCRIPTION:
URL:http://www.plrivieradiponente.it/evento/loano-pulizia-strade-via-gozzano-via-dante/2026-09-02/
CATEGORIES:Divieto di sosta Loano
END:VEVENT
BEGIN:VEVENT
DTSTART;TZID=UTC:20261007T050000
DTEND;TZID=UTC:20261007T070000
DTSTAMP:20260422T153338
CREATED:20200718T184207Z
LAST-MODIFIED:20200718T184207Z
UID:12080-1791349200-1791356400@www.plrivieradiponente.it
SUMMARY:Loano pulizia strade Via Gozzano - Via Dante
DESCRIPTION:
URL:http://www.plrivieradiponente.it/evento/loano-pulizia-strade-via-gozzano-via-dante/2026-10-07/
CATEGORIES:Divieto di sosta Loano
END:VEVENT
BEGIN:VEVENT
DTSTART;TZID=UTC:20261104T050000
DTEND;TZID=UTC:20261104T070000
DTSTAMP:20260422T153338
CREATED:20200718T184207Z
LAST-MODIFIED:20200718T184207Z
UID:12249-1793768400-1793775600@www.plrivieradiponente.it
SUMMARY:Loano pulizia strade Via Gozzano - Via Dante
DESCRIPTION:
URL:http://www.plrivieradiponente.it/evento/loano-pulizia-strade-via-gozzano-via-dante/2026-11-04/
CATEGORIES:Divieto di sosta Loano
END:VEVENT
BEGIN:VEVENT
DTSTART;TZID=UTC:20261202T050000
DTEND;TZID=UTC:20261202T070000
DTSTAMP:20260422T153338
CREATED:20200718T184207Z
LAST-MODIFIED:20200718T184207Z
UID:12348-1796187600-1796194800@www.plrivieradiponente.it
SUMMARY:Loano pulizia strade Via Gozzano - Via Dante
DESCRIPTION:
URL:http://www.plrivieradiponente.it/evento/loano-pulizia-strade-via-gozzano-via-dante/2026-12-02/
CATEGORIES:Divieto di sosta Loano
END:VEVENT
BEGIN:VEVENT
DTSTART;TZID=UTC:20270106T050000
DTEND;TZID=UTC:20270106T070000
DTSTAMP:20260422T153338
CREATED:20200718T184207Z
LAST-MODIFIED:20200718T184207Z
UID:12441-1799211600-1799218800@www.plrivieradiponente.it
SUMMARY:Loano pulizia strade Via Gozzano - Via Dante
DESCRIPTION:
URL:http://www.plrivieradiponente.it/evento/loano-pulizia-strade-via-gozzano-via-dante/2027-01-06/
CATEGORIES:Divieto di sosta Loano
END:VEVENT
BEGIN:VEVENT
DTSTART;TZID=UTC:20270203T050000
DTEND;TZID=UTC:20270203T070000
DTSTAMP:20260422T153338
CREATED:20200718T184207Z
LAST-MODIFIED:20200718T184207Z
UID:12523-1801630800-1801638000@www.plrivieradiponente.it
SUMMARY:Loano pulizia strade Via Gozzano - Via Dante
DESCRIPTION:
URL:http://www.plrivieradiponente.it/evento/loano-pulizia-strade-via-gozzano-via-dante/2027-02-03/
CATEGORIES:Divieto di sosta Loano
END:VEVENT
BEGIN:VEVENT
DTSTART;TZID=UTC:20270303T050000
DTEND;TZID=UTC:20270303T070000
DTSTAMP:20260422T153338
CREATED:20200718T184207Z
LAST-MODIFIED:20200718T184207Z
UID:12674-1804050000-1804057200@www.plrivieradiponente.it
SUMMARY:Loano pulizia strade Via Gozzano - Via Dante
DESCRIPTION:
URL:http://www.plrivieradiponente.it/evento/loano-pulizia-strade-via-gozzano-via-dante/2027-03-03/
CATEGORIES:Divieto di sosta Loano
END:VEVENT
BEGIN:VEVENT
DTSTART;TZID=UTC:20270407T050000
DTEND;TZID=UTC:20270407T070000
DTSTAMP:20260422T153338
CREATED:20200718T184207Z
LAST-MODIFIED:20200718T184207Z
UID:12765-1807074000-1807081200@www.plrivieradiponente.it
SUMMARY:Loano pulizia strade Via Gozzano - Via Dante
DESCRIPTION:
URL:http://www.plrivieradiponente.it/evento/loano-pulizia-strade-via-gozzano-via-dante/2027-04-07/
CATEGORIES:Divieto di sosta Loano
END:VEVENT
BEGIN:VEVENT
DTSTART;TZID=UTC:20270505T050000
DTEND;TZID=UTC:20270505T070000
DTSTAMP:20260422T153338
CREATED:20200718T184207Z
LAST-MODIFIED:20200718T184207Z
UID:12858-1809493200-1809500400@www.plrivieradiponente.it
SUMMARY:Loano pulizia strade Via Gozzano - Via Dante
DESCRIPTION:
URL:http://www.plrivieradiponente.it/evento/loano-pulizia-strade-via-gozzano-via-dante/2027-05-05/
CATEGORIES:Divieto di sosta Loano
END:VEVENT
BEGIN:VEVENT
DTSTART;TZID=UTC:20270602T050000
DTEND;TZID=UTC:20270602T070000
DTSTAMP:20260422T153338
CREATED:20200718T184207Z
LAST-MODIFIED:20200718T184207Z
UID:12955-1811912400-1811919600@www.plrivieradiponente.it
SUMMARY:Loano pulizia strade Via Gozzano - Via Dante
DESCRIPTION:
URL:http://www.plrivieradiponente.it/evento/loano-pulizia-strade-via-gozzano-via-dante/2027-06-02/
CATEGORIES:Divieto di sosta Loano
END:VEVENT
BEGIN:VEVENT
DTSTART;TZID=UTC:20270707T050000
DTEND;TZID=UTC:20270707T070000
DTSTAMP:20260422T153338
CREATED:20200718T184207Z
LAST-MODIFIED:20200718T184207Z
UID:13059-1814936400-1814943600@www.plrivieradiponente.it
SUMMARY:Loano pulizia strade Via Gozzano - Via Dante
DESCRIPTION:
URL:http://www.plrivieradiponente.it/evento/loano-pulizia-strade-via-gozzano-via-dante/2027-07-07/
CATEGORIES:Divieto di sosta Loano
END:VEVENT
BEGIN:VEVENT
DTSTART;TZID=UTC:20270804T050000
DTEND;TZID=UTC:20270804T070000
DTSTAMP:20260422T153338
CREATED:20200718T184207Z
LAST-MODIFIED:20200718T184207Z
UID:13151-1817355600-1817362800@www.plrivieradiponente.it
SUMMARY:Loano pulizia strade Via Gozzano - Via Dante
DESCRIPTION:
URL:http://www.plrivieradiponente.it/evento/loano-pulizia-strade-via-gozzano-via-dante/2027-08-04/
CATEGORIES:Divieto di sosta Loano
END:VEVENT
BEGIN:VEVENT
DTSTART;TZID=UTC:20270901T050000
DTEND;TZID=UTC:20270901T070000
DTSTAMP:20260422T153338
CREATED:20200718T184207Z
LAST-MODIFIED:20200718T184207Z
UID:13209-1819774800-1819782000@www.plrivieradiponente.it
SUMMARY:Loano pulizia strade Via Gozzano - Via Dante
DESCRIPTION:
URL:http://www.plrivieradiponente.it/evento/loano-pulizia-strade-via-gozzano-via-dante/2027-09-01/
CATEGORIES:Divieto di sosta Loano
END:VEVENT
BEGIN:VEVENT
DTSTART;TZID=UTC:20271006T050000
DTEND;TZID=UTC:20271006T070000
DTSTAMP:20260422T153338
CREATED:20200718T184207Z
LAST-MODIFIED:20200718T184207Z
UID:13314-1822798800-1822806000@www.plrivieradiponente.it
SUMMARY:Loano pulizia strade Via Gozzano - Via Dante
DESCRIPTION:
URL:http://www.plrivieradiponente.it/evento/loano-pulizia-strade-via-gozzano-via-dante/2027-10-06/
CATEGORIES:Divieto di sosta Loano
END:VEVENT
BEGIN:VEVENT
DTSTART;TZID=UTC:20271103T050000
DTEND;TZID=UTC:20271103T070000
DTSTAMP:20260422T153338
CREATED:20200718T184207Z
LAST-MODIFIED:20200718T184207Z
UID:13459-1825218000-1825225200@www.plrivieradiponente.it
SUMMARY:Loano pulizia strade Via Gozzano - Via Dante
DESCRIPTION:
URL:http://www.plrivieradiponente.it/evento/loano-pulizia-strade-via-gozzano-via-dante/2027-11-03/
CATEGORIES:Divieto di sosta Loano
END:VEVENT
BEGIN:VEVENT
DTSTART;TZID=UTC:20271201T050000
DTEND;TZID=UTC:20271201T070000
DTSTAMP:20260422T153338
CREATED:20200718T184207Z
LAST-MODIFIED:20200718T184207Z
UID:13625-1827637200-1827644400@www.plrivieradiponente.it
SUMMARY:Loano pulizia strade Via Gozzano - Via Dante
DESCRIPTION:
URL:http://www.plrivieradiponente.it/evento/loano-pulizia-strade-via-gozzano-via-dante/2027-12-01/
CATEGORIES:Divieto di sosta Loano
END:VEVENT
BEGIN:VEVENT
DTSTART;TZID=UTC:20280105T050000
DTEND;TZID=UTC:20280105T070000
DTSTAMP:20260422T153338
CREATED:20200718T184207Z
LAST-MODIFIED:20200718T184207Z
UID:13717-1830661200-1830668400@www.plrivieradiponente.it
SUMMARY:Loano pulizia strade Via Gozzano - Via Dante
DESCRIPTION:
URL:http://www.plrivieradiponente.it/evento/loano-pulizia-strade-via-gozzano-via-dante/2028-01-05/
CATEGORIES:Divieto di sosta Loano
END:VEVENT
BEGIN:VEVENT
DTSTART;TZID=UTC:20280202T050000
DTEND;TZID=UTC:20280202T070000
DTSTAMP:20260422T153338
CREATED:20200718T184207Z
LAST-MODIFIED:20200718T184207Z
UID:13809-1833080400-1833087600@www.plrivieradiponente.it
SUMMARY:Loano pulizia strade Via Gozzano - Via Dante
DESCRIPTION:
URL:http://www.plrivieradiponente.it/evento/loano-pulizia-strade-via-gozzano-via-dante/2028-02-02/
CATEGORIES:Divieto di sosta Loano
END:VEVENT
BEGIN:VEVENT
DTSTART;TZID=UTC:20280301T050000
DTEND;TZID=UTC:20280301T070000
DTSTAMP:20260422T153338
CREATED:20200718T184207Z
LAST-MODIFIED:20200718T184207Z
UID:13881-1835499600-1835506800@www.plrivieradiponente.it
SUMMARY:Loano pulizia strade Via Gozzano - Via Dante
DESCRIPTION:
URL:http://www.plrivieradiponente.it/evento/loano-pulizia-strade-via-gozzano-via-dante/2028-03-01/
CATEGORIES:Divieto di sosta Loano
END:VEVENT
BEGIN:VEVENT
DTSTART;TZID=UTC:20280405T050000
DTEND;TZID=UTC:20280405T070000
DTSTAMP:20260422T153338
CREATED:20200718T184207Z
LAST-MODIFIED:20200718T184207Z
UID:13974-1838523600-1838530800@www.plrivieradiponente.it
SUMMARY:Loano pulizia strade Via Gozzano - Via Dante
DESCRIPTION:
URL:http://www.plrivieradiponente.it/evento/loano-pulizia-strade-via-gozzano-via-dante/2028-04-05/
CATEGORIES:Divieto di sosta Loano
END:VEVENT
END:VCALENDAR