BEGIN:VCALENDAR
VERSION:2.0
PRODID:-//Polizia Locale Riviera di Ponente - ECPv6.7.0//NONSGML v1.0//EN
CALSCALE:GREGORIAN
METHOD:PUBLISH
X-WR-CALNAME:Polizia Locale Riviera di Ponente
X-ORIGINAL-URL:http://www.plrivieradiponente.it
X-WR-CALDESC:Eventi per Polizia Locale Riviera di Ponente
REFRESH-INTERVAL;VALUE=DURATION:PT1H
X-Robots-Tag:noindex
X-PUBLISHED-TTL:PT1H
BEGIN:VTIMEZONE
TZID:UTC
BEGIN:STANDARD
TZOFFSETFROM:+0000
TZOFFSETTO:+0000
TZNAME:UTC
DTSTART:20260101T000000
END:STANDARD
END:VTIMEZONE
BEGIN:VEVENT
DTSTART;TZID=UTC:20260501T130000
DTEND;TZID=UTC:20260501T150000
DTSTAMP:20260426T024925
CREATED:20200723T134553Z
LAST-MODIFIED:20200723T134553Z
UID:11614-1777640400-1777647600@www.plrivieradiponente.it
SUMMARY:Loano pulizia strade Via Manzoni (zona mercato) e Via delle Caselle
DESCRIPTION:
URL:http://www.plrivieradiponente.it/evento/loano-pulizia-strade-via-manzoni-zona-mercato-e-via-delle-caselle/2026-05-01/
END:VEVENT
BEGIN:VEVENT
DTSTART;TZID=UTC:20260508T130000
DTEND;TZID=UTC:20260508T150000
DTSTAMP:20260426T024925
CREATED:20200723T134553Z
LAST-MODIFIED:20200723T134553Z
UID:11639-1778245200-1778252400@www.plrivieradiponente.it
SUMMARY:Loano pulizia strade Via Manzoni (zona mercato) e Via delle Caselle
DESCRIPTION:
URL:http://www.plrivieradiponente.it/evento/loano-pulizia-strade-via-manzoni-zona-mercato-e-via-delle-caselle/2026-05-08/
END:VEVENT
BEGIN:VEVENT
DTSTART;TZID=UTC:20260515T130000
DTEND;TZID=UTC:20260515T150000
DTSTAMP:20260426T024925
CREATED:20200723T134553Z
LAST-MODIFIED:20200723T134553Z
UID:11655-1778850000-1778857200@www.plrivieradiponente.it
SUMMARY:Loano pulizia strade Via Manzoni (zona mercato) e Via delle Caselle
DESCRIPTION:
URL:http://www.plrivieradiponente.it/evento/loano-pulizia-strade-via-manzoni-zona-mercato-e-via-delle-caselle/2026-05-15/
END:VEVENT
BEGIN:VEVENT
DTSTART;TZID=UTC:20260522T130000
DTEND;TZID=UTC:20260522T150000
DTSTAMP:20260426T024925
CREATED:20200723T134553Z
LAST-MODIFIED:20200723T134553Z
UID:11671-1779454800-1779462000@www.plrivieradiponente.it
SUMMARY:Loano pulizia strade Via Manzoni (zona mercato) e Via delle Caselle
DESCRIPTION:
URL:http://www.plrivieradiponente.it/evento/loano-pulizia-strade-via-manzoni-zona-mercato-e-via-delle-caselle/2026-05-22/
END:VEVENT
BEGIN:VEVENT
DTSTART;TZID=UTC:20260529T130000
DTEND;TZID=UTC:20260529T150000
DTSTAMP:20260426T024925
CREATED:20200723T134553Z
LAST-MODIFIED:20200723T134553Z
UID:11687-1780059600-1780066800@www.plrivieradiponente.it
SUMMARY:Loano pulizia strade Via Manzoni (zona mercato) e Via delle Caselle
DESCRIPTION:
URL:http://www.plrivieradiponente.it/evento/loano-pulizia-strade-via-manzoni-zona-mercato-e-via-delle-caselle/2026-05-29/
END:VEVENT
BEGIN:VEVENT
DTSTART;TZID=UTC:20260605T130000
DTEND;TZID=UTC:20260605T150000
DTSTAMP:20260426T024925
CREATED:20200723T134553Z
LAST-MODIFIED:20200723T134553Z
UID:11713-1780664400-1780671600@www.plrivieradiponente.it
SUMMARY:Loano pulizia strade Via Manzoni (zona mercato) e Via delle Caselle
DESCRIPTION:
URL:http://www.plrivieradiponente.it/evento/loano-pulizia-strade-via-manzoni-zona-mercato-e-via-delle-caselle/2026-06-05/
END:VEVENT
BEGIN:VEVENT
DTSTART;TZID=UTC:20260612T130000
DTEND;TZID=UTC:20260612T150000
DTSTAMP:20260426T024925
CREATED:20200723T134553Z
LAST-MODIFIED:20200723T134553Z
UID:11753-1781269200-1781276400@www.plrivieradiponente.it
SUMMARY:Loano pulizia strade Via Manzoni (zona mercato) e Via delle Caselle
DESCRIPTION:
URL:http://www.plrivieradiponente.it/evento/loano-pulizia-strade-via-manzoni-zona-mercato-e-via-delle-caselle/2026-06-12/
END:VEVENT
BEGIN:VEVENT
DTSTART;TZID=UTC:20260619T130000
DTEND;TZID=UTC:20260619T150000
DTSTAMP:20260426T024925
CREATED:20200723T134553Z
LAST-MODIFIED:20200723T134553Z
UID:11777-1781874000-1781881200@www.plrivieradiponente.it
SUMMARY:Loano pulizia strade Via Manzoni (zona mercato) e Via delle Caselle
DESCRIPTION:
URL:http://www.plrivieradiponente.it/evento/loano-pulizia-strade-via-manzoni-zona-mercato-e-via-delle-caselle/2026-06-19/
END:VEVENT
BEGIN:VEVENT
DTSTART;TZID=UTC:20260626T130000
DTEND;TZID=UTC:20260626T150000
DTSTAMP:20260426T024925
CREATED:20200723T134553Z
LAST-MODIFIED:20200723T134553Z
UID:11798-1782478800-1782486000@www.plrivieradiponente.it
SUMMARY:Loano pulizia strade Via Manzoni (zona mercato) e Via delle Caselle
DESCRIPTION:
URL:http://www.plrivieradiponente.it/evento/loano-pulizia-strade-via-manzoni-zona-mercato-e-via-delle-caselle/2026-06-26/
END:VEVENT
BEGIN:VEVENT
DTSTART;TZID=UTC:20260703T130000
DTEND;TZID=UTC:20260703T150000
DTSTAMP:20260426T024925
CREATED:20200723T134553Z
LAST-MODIFIED:20200723T134553Z
UID:11818-1783083600-1783090800@www.plrivieradiponente.it
SUMMARY:Loano pulizia strade Via Manzoni (zona mercato) e Via delle Caselle
DESCRIPTION:
URL:http://www.plrivieradiponente.it/evento/loano-pulizia-strade-via-manzoni-zona-mercato-e-via-delle-caselle/2026-07-03/
END:VEVENT
BEGIN:VEVENT
DTSTART;TZID=UTC:20260710T130000
DTEND;TZID=UTC:20260710T150000
DTSTAMP:20260426T024925
CREATED:20200723T134553Z
LAST-MODIFIED:20200723T134553Z
UID:11848-1783688400-1783695600@www.plrivieradiponente.it
SUMMARY:Loano pulizia strade Via Manzoni (zona mercato) e Via delle Caselle
DESCRIPTION:
URL:http://www.plrivieradiponente.it/evento/loano-pulizia-strade-via-manzoni-zona-mercato-e-via-delle-caselle/2026-07-10/
END:VEVENT
BEGIN:VEVENT
DTSTART;TZID=UTC:20260717T130000
DTEND;TZID=UTC:20260717T150000
DTSTAMP:20260426T024925
CREATED:20200723T134553Z
LAST-MODIFIED:20200723T134553Z
UID:11864-1784293200-1784300400@www.plrivieradiponente.it
SUMMARY:Loano pulizia strade Via Manzoni (zona mercato) e Via delle Caselle
DESCRIPTION:
URL:http://www.plrivieradiponente.it/evento/loano-pulizia-strade-via-manzoni-zona-mercato-e-via-delle-caselle/2026-07-17/
END:VEVENT
BEGIN:VEVENT
DTSTART;TZID=UTC:20260724T130000
DTEND;TZID=UTC:20260724T150000
DTSTAMP:20260426T024925
CREATED:20200723T134553Z
LAST-MODIFIED:20200723T134553Z
UID:11891-1784898000-1784905200@www.plrivieradiponente.it
SUMMARY:Loano pulizia strade Via Manzoni (zona mercato) e Via delle Caselle
DESCRIPTION:
URL:http://www.plrivieradiponente.it/evento/loano-pulizia-strade-via-manzoni-zona-mercato-e-via-delle-caselle/2026-07-24/
END:VEVENT
BEGIN:VEVENT
DTSTART;TZID=UTC:20260731T130000
DTEND;TZID=UTC:20260731T150000
DTSTAMP:20260426T024925
CREATED:20200723T134553Z
LAST-MODIFIED:20200723T134553Z
UID:11907-1785502800-1785510000@www.plrivieradiponente.it
SUMMARY:Loano pulizia strade Via Manzoni (zona mercato) e Via delle Caselle
DESCRIPTION:
URL:http://www.plrivieradiponente.it/evento/loano-pulizia-strade-via-manzoni-zona-mercato-e-via-delle-caselle/2026-07-31/
END:VEVENT
BEGIN:VEVENT
DTSTART;TZID=UTC:20260807T130000
DTEND;TZID=UTC:20260807T150000
DTSTAMP:20260426T024925
CREATED:20200723T134553Z
LAST-MODIFIED:20200723T134553Z
UID:11931-1786107600-1786114800@www.plrivieradiponente.it
SUMMARY:Loano pulizia strade Via Manzoni (zona mercato) e Via delle Caselle
DESCRIPTION:
URL:http://www.plrivieradiponente.it/evento/loano-pulizia-strade-via-manzoni-zona-mercato-e-via-delle-caselle/2026-08-07/
END:VEVENT
BEGIN:VEVENT
DTSTART;TZID=UTC:20260814T130000
DTEND;TZID=UTC:20260814T150000
DTSTAMP:20260426T024925
CREATED:20200723T134553Z
LAST-MODIFIED:20200723T134553Z
UID:11934-1786712400-1786719600@www.plrivieradiponente.it
SUMMARY:Loano pulizia strade Via Manzoni (zona mercato) e Via delle Caselle
DESCRIPTION:
URL:http://www.plrivieradiponente.it/evento/loano-pulizia-strade-via-manzoni-zona-mercato-e-via-delle-caselle/2026-08-14/
END:VEVENT
BEGIN:VEVENT
DTSTART;TZID=UTC:20260821T130000
DTEND;TZID=UTC:20260821T150000
DTSTAMP:20260426T024925
CREATED:20200723T134553Z
LAST-MODIFIED:20200723T134553Z
UID:11936-1787317200-1787324400@www.plrivieradiponente.it
SUMMARY:Loano pulizia strade Via Manzoni (zona mercato) e Via delle Caselle
DESCRIPTION:
URL:http://www.plrivieradiponente.it/evento/loano-pulizia-strade-via-manzoni-zona-mercato-e-via-delle-caselle/2026-08-21/
END:VEVENT
BEGIN:VEVENT
DTSTART;TZID=UTC:20260828T130000
DTEND;TZID=UTC:20260828T150000
DTSTAMP:20260426T024925
CREATED:20200723T134553Z
LAST-MODIFIED:20200723T134553Z
UID:11952-1787922000-1787929200@www.plrivieradiponente.it
SUMMARY:Loano pulizia strade Via Manzoni (zona mercato) e Via delle Caselle
DESCRIPTION:
URL:http://www.plrivieradiponente.it/evento/loano-pulizia-strade-via-manzoni-zona-mercato-e-via-delle-caselle/2026-08-28/
END:VEVENT
BEGIN:VEVENT
DTSTART;TZID=UTC:20260904T130000
DTEND;TZID=UTC:20260904T150000
DTSTAMP:20260426T024925
CREATED:20200723T134553Z
LAST-MODIFIED:20200723T134553Z
UID:11977-1788526800-1788534000@www.plrivieradiponente.it
SUMMARY:Loano pulizia strade Via Manzoni (zona mercato) e Via delle Caselle
DESCRIPTION:
URL:http://www.plrivieradiponente.it/evento/loano-pulizia-strade-via-manzoni-zona-mercato-e-via-delle-caselle/2026-09-04/
END:VEVENT
BEGIN:VEVENT
DTSTART;TZID=UTC:20260911T130000
DTEND;TZID=UTC:20260911T150000
DTSTAMP:20260426T024925
CREATED:20200723T134553Z
LAST-MODIFIED:20200723T134553Z
UID:12011-1789131600-1789138800@www.plrivieradiponente.it
SUMMARY:Loano pulizia strade Via Manzoni (zona mercato) e Via delle Caselle
DESCRIPTION:
URL:http://www.plrivieradiponente.it/evento/loano-pulizia-strade-via-manzoni-zona-mercato-e-via-delle-caselle/2026-09-11/
END:VEVENT
BEGIN:VEVENT
DTSTART;TZID=UTC:20260918T130000
DTEND;TZID=UTC:20260918T150000
DTSTAMP:20260426T024925
CREATED:20200723T134553Z
LAST-MODIFIED:20200723T134553Z
UID:12027-1789736400-1789743600@www.plrivieradiponente.it
SUMMARY:Loano pulizia strade Via Manzoni (zona mercato) e Via delle Caselle
DESCRIPTION:
URL:http://www.plrivieradiponente.it/evento/loano-pulizia-strade-via-manzoni-zona-mercato-e-via-delle-caselle/2026-09-18/
END:VEVENT
BEGIN:VEVENT
DTSTART;TZID=UTC:20260925T130000
DTEND;TZID=UTC:20260925T150000
DTSTAMP:20260426T024925
CREATED:20200723T134553Z
LAST-MODIFIED:20200723T134553Z
UID:12047-1790341200-1790348400@www.plrivieradiponente.it
SUMMARY:Loano pulizia strade Via Manzoni (zona mercato) e Via delle Caselle
DESCRIPTION:
URL:http://www.plrivieradiponente.it/evento/loano-pulizia-strade-via-manzoni-zona-mercato-e-via-delle-caselle/2026-09-25/
END:VEVENT
BEGIN:VEVENT
DTSTART;TZID=UTC:20261002T130000
DTEND;TZID=UTC:20261002T150000
DTSTAMP:20260426T024925
CREATED:20200723T134553Z
LAST-MODIFIED:20200723T134553Z
UID:12066-1790946000-1790953200@www.plrivieradiponente.it
SUMMARY:Loano pulizia strade Via Manzoni (zona mercato) e Via delle Caselle
DESCRIPTION:
URL:http://www.plrivieradiponente.it/evento/loano-pulizia-strade-via-manzoni-zona-mercato-e-via-delle-caselle/2026-10-02/
END:VEVENT
BEGIN:VEVENT
DTSTART;TZID=UTC:20261009T130000
DTEND;TZID=UTC:20261009T150000
DTSTAMP:20260426T024925
CREATED:20200723T134553Z
LAST-MODIFIED:20200723T134553Z
UID:12109-1791550800-1791558000@www.plrivieradiponente.it
SUMMARY:Loano pulizia strade Via Manzoni (zona mercato) e Via delle Caselle
DESCRIPTION:
URL:http://www.plrivieradiponente.it/evento/loano-pulizia-strade-via-manzoni-zona-mercato-e-via-delle-caselle/2026-10-09/
END:VEVENT
BEGIN:VEVENT
DTSTART;TZID=UTC:20261016T130000
DTEND;TZID=UTC:20261016T150000
DTSTAMP:20260426T024925
CREATED:20200723T134553Z
LAST-MODIFIED:20200723T134553Z
UID:12167-1792155600-1792162800@www.plrivieradiponente.it
SUMMARY:Loano pulizia strade Via Manzoni (zona mercato) e Via delle Caselle
DESCRIPTION:
URL:http://www.plrivieradiponente.it/evento/loano-pulizia-strade-via-manzoni-zona-mercato-e-via-delle-caselle/2026-10-16/
END:VEVENT
BEGIN:VEVENT
DTSTART;TZID=UTC:20261023T130000
DTEND;TZID=UTC:20261023T150000
DTSTAMP:20260426T024925
CREATED:20200723T134553Z
LAST-MODIFIED:20200723T134553Z
UID:12218-1792760400-1792767600@www.plrivieradiponente.it
SUMMARY:Loano pulizia strade Via Manzoni (zona mercato) e Via delle Caselle
DESCRIPTION:
URL:http://www.plrivieradiponente.it/evento/loano-pulizia-strade-via-manzoni-zona-mercato-e-via-delle-caselle/2026-10-23/
END:VEVENT
BEGIN:VEVENT
DTSTART;TZID=UTC:20261030T130000
DTEND;TZID=UTC:20261030T150000
DTSTAMP:20260426T024925
CREATED:20200723T134553Z
LAST-MODIFIED:20200723T134553Z
UID:12235-1793365200-1793372400@www.plrivieradiponente.it
SUMMARY:Loano pulizia strade Via Manzoni (zona mercato) e Via delle Caselle
DESCRIPTION:
URL:http://www.plrivieradiponente.it/evento/loano-pulizia-strade-via-manzoni-zona-mercato-e-via-delle-caselle/2026-10-30/
END:VEVENT
BEGIN:VEVENT
DTSTART;TZID=UTC:20261106T130000
DTEND;TZID=UTC:20261106T150000
DTSTAMP:20260426T024925
CREATED:20200723T134553Z
LAST-MODIFIED:20200723T134553Z
UID:12259-1793970000-1793977200@www.plrivieradiponente.it
SUMMARY:Loano pulizia strade Via Manzoni (zona mercato) e Via delle Caselle
DESCRIPTION:
URL:http://www.plrivieradiponente.it/evento/loano-pulizia-strade-via-manzoni-zona-mercato-e-via-delle-caselle/2026-11-06/
END:VEVENT
BEGIN:VEVENT
DTSTART;TZID=UTC:20261113T130000
DTEND;TZID=UTC:20261113T150000
DTSTAMP:20260426T024925
CREATED:20200723T134553Z
LAST-MODIFIED:20200723T134553Z
UID:12281-1794574800-1794582000@www.plrivieradiponente.it
SUMMARY:Loano pulizia strade Via Manzoni (zona mercato) e Via delle Caselle
DESCRIPTION:
URL:http://www.plrivieradiponente.it/evento/loano-pulizia-strade-via-manzoni-zona-mercato-e-via-delle-caselle/2026-11-13/
END:VEVENT
BEGIN:VEVENT
DTSTART;TZID=UTC:20261120T130000
DTEND;TZID=UTC:20261120T150000
DTSTAMP:20260426T024925
CREATED:20200723T134553Z
LAST-MODIFIED:20200723T134553Z
UID:12319-1795179600-1795186800@www.plrivieradiponente.it
SUMMARY:Loano pulizia strade Via Manzoni (zona mercato) e Via delle Caselle
DESCRIPTION:
URL:http://www.plrivieradiponente.it/evento/loano-pulizia-strade-via-manzoni-zona-mercato-e-via-delle-caselle/2026-11-20/
END:VEVENT
END:VCALENDAR