BEGIN:VCALENDAR
VERSION:2.0
PRODID:-//Polizia Locale Riviera di Ponente - ECPv6.7.0//NONSGML v1.0//EN
CALSCALE:GREGORIAN
METHOD:PUBLISH
X-ORIGINAL-URL:http://www.plrivieradiponente.it
X-WR-CALDESC:Eventi per Polizia Locale Riviera di Ponente
REFRESH-INTERVAL;VALUE=DURATION:PT1H
X-Robots-Tag:noindex
X-PUBLISHED-TTL:PT1H
BEGIN:VTIMEZONE
TZID:UTC
BEGIN:STANDARD
TZOFFSETFROM:+0000
TZOFFSETTO:+0000
TZNAME:UTC
DTSTART:20250101T000000
END:STANDARD
END:VTIMEZONE
BEGIN:VEVENT
DTSTART;TZID=UTC:20260424T150000
DTEND;TZID=UTC:20260424T160000
DTSTAMP:20260425T003617
CREATED:20200723T134804Z
LAST-MODIFIED:20200723T134804Z
UID:11588-1777042800-1777046400@www.plrivieradiponente.it
SUMMARY:Loano pulizia strade Via Sant'Agostino Via Monte Pasubio
DESCRIPTION:
URL:http://www.plrivieradiponente.it/evento/loano-pulizia-strade-via-santagostino-via-monte-pasubio/2026-04-24/
END:VEVENT
BEGIN:VEVENT
DTSTART;TZID=UTC:20260417T150000
DTEND;TZID=UTC:20260417T160000
DTSTAMP:20260425T003617
CREATED:20200723T134804Z
LAST-MODIFIED:20200723T134804Z
UID:11571-1776438000-1776441600@www.plrivieradiponente.it
SUMMARY:Loano pulizia strade Via Sant'Agostino Via Monte Pasubio
DESCRIPTION:
URL:http://www.plrivieradiponente.it/evento/loano-pulizia-strade-via-santagostino-via-monte-pasubio/2026-04-17/
END:VEVENT
BEGIN:VEVENT
DTSTART;TZID=UTC:20260410T150000
DTEND;TZID=UTC:20260410T160000
DTSTAMP:20260425T003617
CREATED:20200723T134804Z
LAST-MODIFIED:20200723T134804Z
UID:11512-1775833200-1775836800@www.plrivieradiponente.it
SUMMARY:Loano pulizia strade Via Sant'Agostino Via Monte Pasubio
DESCRIPTION:
URL:http://www.plrivieradiponente.it/evento/loano-pulizia-strade-via-santagostino-via-monte-pasubio/2026-04-10/
END:VEVENT
BEGIN:VEVENT
DTSTART;TZID=UTC:20260403T150000
DTEND;TZID=UTC:20260403T160000
DTSTAMP:20260425T003617
CREATED:20200723T134804Z
LAST-MODIFIED:20200723T134804Z
UID:11434-1775228400-1775232000@www.plrivieradiponente.it
SUMMARY:Loano pulizia strade Via Sant'Agostino Via Monte Pasubio
DESCRIPTION:
URL:http://www.plrivieradiponente.it/evento/loano-pulizia-strade-via-santagostino-via-monte-pasubio/2026-04-03/
END:VEVENT
BEGIN:VEVENT
DTSTART;TZID=UTC:20260327T150000
DTEND;TZID=UTC:20260327T160000
DTSTAMP:20260425T003617
CREATED:20200723T134804Z
LAST-MODIFIED:20200723T134804Z
UID:11413-1774623600-1774627200@www.plrivieradiponente.it
SUMMARY:Loano pulizia strade Via Sant'Agostino Via Monte Pasubio
DESCRIPTION:
URL:http://www.plrivieradiponente.it/evento/loano-pulizia-strade-via-santagostino-via-monte-pasubio/2026-03-27/
END:VEVENT
BEGIN:VEVENT
DTSTART;TZID=UTC:20260320T150000
DTEND;TZID=UTC:20260320T160000
DTSTAMP:20260425T003617
CREATED:20200723T134804Z
LAST-MODIFIED:20200723T134804Z
UID:11397-1774018800-1774022400@www.plrivieradiponente.it
SUMMARY:Loano pulizia strade Via Sant'Agostino Via Monte Pasubio
DESCRIPTION:
URL:http://www.plrivieradiponente.it/evento/loano-pulizia-strade-via-santagostino-via-monte-pasubio/2026-03-20/
END:VEVENT
BEGIN:VEVENT
DTSTART;TZID=UTC:20260313T150000
DTEND;TZID=UTC:20260313T160000
DTSTAMP:20260425T003617
CREATED:20200723T134804Z
LAST-MODIFIED:20200723T134804Z
UID:11359-1773414000-1773417600@www.plrivieradiponente.it
SUMMARY:Loano pulizia strade Via Sant'Agostino Via Monte Pasubio
DESCRIPTION:
URL:http://www.plrivieradiponente.it/evento/loano-pulizia-strade-via-santagostino-via-monte-pasubio/2026-03-13/
END:VEVENT
BEGIN:VEVENT
DTSTART;TZID=UTC:20260306T150000
DTEND;TZID=UTC:20260306T160000
DTSTAMP:20260425T003617
CREATED:20200723T134804Z
LAST-MODIFIED:20200723T134804Z
UID:11343-1772809200-1772812800@www.plrivieradiponente.it
SUMMARY:Loano pulizia strade Via Sant'Agostino Via Monte Pasubio
DESCRIPTION:
URL:http://www.plrivieradiponente.it/evento/loano-pulizia-strade-via-santagostino-via-monte-pasubio/2026-03-06/
END:VEVENT
BEGIN:VEVENT
DTSTART;TZID=UTC:20260227T150000
DTEND;TZID=UTC:20260227T160000
DTSTAMP:20260425T003617
CREATED:20200723T134804Z
LAST-MODIFIED:20200723T134804Z
UID:11279-1772204400-1772208000@www.plrivieradiponente.it
SUMMARY:Loano pulizia strade Via Sant'Agostino Via Monte Pasubio
DESCRIPTION:
URL:http://www.plrivieradiponente.it/evento/loano-pulizia-strade-via-santagostino-via-monte-pasubio/2026-02-27/
END:VEVENT
BEGIN:VEVENT
DTSTART;TZID=UTC:20260220T150000
DTEND;TZID=UTC:20260220T160000
DTSTAMP:20260425T003617
CREATED:20200723T134804Z
LAST-MODIFIED:20200723T134804Z
UID:11247-1771599600-1771603200@www.plrivieradiponente.it
SUMMARY:Loano pulizia strade Via Sant'Agostino Via Monte Pasubio
DESCRIPTION:
URL:http://www.plrivieradiponente.it/evento/loano-pulizia-strade-via-santagostino-via-monte-pasubio/2026-02-20/
END:VEVENT
BEGIN:VEVENT
DTSTART;TZID=UTC:20260213T150000
DTEND;TZID=UTC:20260213T160000
DTSTAMP:20260425T003617
CREATED:20200723T134804Z
LAST-MODIFIED:20200723T134804Z
UID:11224-1770994800-1770998400@www.plrivieradiponente.it
SUMMARY:Loano pulizia strade Via Sant'Agostino Via Monte Pasubio
DESCRIPTION:
URL:http://www.plrivieradiponente.it/evento/loano-pulizia-strade-via-santagostino-via-monte-pasubio/2026-02-13/
END:VEVENT
BEGIN:VEVENT
DTSTART;TZID=UTC:20260206T150000
DTEND;TZID=UTC:20260206T160000
DTSTAMP:20260425T003617
CREATED:20200723T134804Z
LAST-MODIFIED:20200723T134804Z
UID:11208-1770390000-1770393600@www.plrivieradiponente.it
SUMMARY:Loano pulizia strade Via Sant'Agostino Via Monte Pasubio
DESCRIPTION:
URL:http://www.plrivieradiponente.it/evento/loano-pulizia-strade-via-santagostino-via-monte-pasubio/2026-02-06/
END:VEVENT
BEGIN:VEVENT
DTSTART;TZID=UTC:20260130T150000
DTEND;TZID=UTC:20260130T160000
DTSTAMP:20260425T003617
CREATED:20200723T134804Z
LAST-MODIFIED:20200723T134804Z
UID:11178-1769785200-1769788800@www.plrivieradiponente.it
SUMMARY:Loano pulizia strade Via Sant'Agostino Via Monte Pasubio
DESCRIPTION:
URL:http://www.plrivieradiponente.it/evento/loano-pulizia-strade-via-santagostino-via-monte-pasubio/2026-01-30/
END:VEVENT
BEGIN:VEVENT
DTSTART;TZID=UTC:20260123T150000
DTEND;TZID=UTC:20260123T160000
DTSTAMP:20260425T003617
CREATED:20200723T134804Z
LAST-MODIFIED:20200723T134804Z
UID:11162-1769180400-1769184000@www.plrivieradiponente.it
SUMMARY:Loano pulizia strade Via Sant'Agostino Via Monte Pasubio
DESCRIPTION:
URL:http://www.plrivieradiponente.it/evento/loano-pulizia-strade-via-santagostino-via-monte-pasubio/2026-01-23/
END:VEVENT
BEGIN:VEVENT
DTSTART;TZID=UTC:20260116T150000
DTEND;TZID=UTC:20260116T160000
DTSTAMP:20260425T003617
CREATED:20200723T134804Z
LAST-MODIFIED:20200723T134804Z
UID:11146-1768575600-1768579200@www.plrivieradiponente.it
SUMMARY:Loano pulizia strade Via Sant'Agostino Via Monte Pasubio
DESCRIPTION:
URL:http://www.plrivieradiponente.it/evento/loano-pulizia-strade-via-santagostino-via-monte-pasubio/2026-01-16/
END:VEVENT
BEGIN:VEVENT
DTSTART;TZID=UTC:20260109T150000
DTEND;TZID=UTC:20260109T160000
DTSTAMP:20260425T003617
CREATED:20200723T134804Z
LAST-MODIFIED:20200723T134804Z
UID:11130-1767970800-1767974400@www.plrivieradiponente.it
SUMMARY:Loano pulizia strade Via Sant'Agostino Via Monte Pasubio
DESCRIPTION:
URL:http://www.plrivieradiponente.it/evento/loano-pulizia-strade-via-santagostino-via-monte-pasubio/2026-01-09/
END:VEVENT
BEGIN:VEVENT
DTSTART;TZID=UTC:20260102T150000
DTEND;TZID=UTC:20260102T160000
DTSTAMP:20260425T003617
CREATED:20200723T134804Z
LAST-MODIFIED:20200723T134804Z
UID:11106-1767366000-1767369600@www.plrivieradiponente.it
SUMMARY:Loano pulizia strade Via Sant'Agostino Via Monte Pasubio
DESCRIPTION:
URL:http://www.plrivieradiponente.it/evento/loano-pulizia-strade-via-santagostino-via-monte-pasubio/2026-01-02/
END:VEVENT
BEGIN:VEVENT
DTSTART;TZID=UTC:20251226T150000
DTEND;TZID=UTC:20251226T160000
DTSTAMP:20260425T003617
CREATED:20200723T134804Z
LAST-MODIFIED:20200723T134804Z
UID:11086-1766761200-1766764800@www.plrivieradiponente.it
SUMMARY:Loano pulizia strade Via Sant'Agostino Via Monte Pasubio
DESCRIPTION:
URL:http://www.plrivieradiponente.it/evento/loano-pulizia-strade-via-santagostino-via-monte-pasubio/2025-12-26/
END:VEVENT
BEGIN:VEVENT
DTSTART;TZID=UTC:20251219T150000
DTEND;TZID=UTC:20251219T160000
DTSTAMP:20260425T003617
CREATED:20200723T134804Z
LAST-MODIFIED:20200723T134804Z
UID:11062-1766156400-1766160000@www.plrivieradiponente.it
SUMMARY:Loano pulizia strade Via Sant'Agostino Via Monte Pasubio
DESCRIPTION:
URL:http://www.plrivieradiponente.it/evento/loano-pulizia-strade-via-santagostino-via-monte-pasubio/2025-12-19/
END:VEVENT
BEGIN:VEVENT
DTSTART;TZID=UTC:20251212T150000
DTEND;TZID=UTC:20251212T160000
DTSTAMP:20260425T003617
CREATED:20200723T134804Z
LAST-MODIFIED:20200723T134804Z
UID:11046-1765551600-1765555200@www.plrivieradiponente.it
SUMMARY:Loano pulizia strade Via Sant'Agostino Via Monte Pasubio
DESCRIPTION:
URL:http://www.plrivieradiponente.it/evento/loano-pulizia-strade-via-santagostino-via-monte-pasubio/2025-12-12/
END:VEVENT
BEGIN:VEVENT
DTSTART;TZID=UTC:20251205T150000
DTEND;TZID=UTC:20251205T160000
DTSTAMP:20260425T003617
CREATED:20200723T134804Z
LAST-MODIFIED:20200723T134804Z
UID:11030-1764946800-1764950400@www.plrivieradiponente.it
SUMMARY:Loano pulizia strade Via Sant'Agostino Via Monte Pasubio
DESCRIPTION:
URL:http://www.plrivieradiponente.it/evento/loano-pulizia-strade-via-santagostino-via-monte-pasubio/2025-12-05/
END:VEVENT
BEGIN:VEVENT
DTSTART;TZID=UTC:20251128T150000
DTEND;TZID=UTC:20251128T160000
DTSTAMP:20260425T003617
CREATED:20200723T134804Z
LAST-MODIFIED:20200723T134804Z
UID:11006-1764342000-1764345600@www.plrivieradiponente.it
SUMMARY:Loano pulizia strade Via Sant'Agostino Via Monte Pasubio
DESCRIPTION:
URL:http://www.plrivieradiponente.it/evento/loano-pulizia-strade-via-santagostino-via-monte-pasubio/2025-11-28/
END:VEVENT
BEGIN:VEVENT
DTSTART;TZID=UTC:20251121T150000
DTEND;TZID=UTC:20251121T160000
DTSTAMP:20260425T003617
CREATED:20200723T134804Z
LAST-MODIFIED:20200723T134804Z
UID:10989-1763737200-1763740800@www.plrivieradiponente.it
SUMMARY:Loano pulizia strade Via Sant'Agostino Via Monte Pasubio
DESCRIPTION:
URL:http://www.plrivieradiponente.it/evento/loano-pulizia-strade-via-santagostino-via-monte-pasubio/2025-11-21/
END:VEVENT
BEGIN:VEVENT
DTSTART;TZID=UTC:20251114T150000
DTEND;TZID=UTC:20251114T160000
DTSTAMP:20260425T003617
CREATED:20200723T134804Z
LAST-MODIFIED:20200723T134804Z
UID:10973-1763132400-1763136000@www.plrivieradiponente.it
SUMMARY:Loano pulizia strade Via Sant'Agostino Via Monte Pasubio
DESCRIPTION:
URL:http://www.plrivieradiponente.it/evento/loano-pulizia-strade-via-santagostino-via-monte-pasubio/2025-11-14/
END:VEVENT
BEGIN:VEVENT
DTSTART;TZID=UTC:20251107T150000
DTEND;TZID=UTC:20251107T160000
DTSTAMP:20260425T003617
CREATED:20200723T134804Z
LAST-MODIFIED:20200723T134804Z
UID:10945-1762527600-1762531200@www.plrivieradiponente.it
SUMMARY:Loano pulizia strade Via Sant'Agostino Via Monte Pasubio
DESCRIPTION:
URL:http://www.plrivieradiponente.it/evento/loano-pulizia-strade-via-santagostino-via-monte-pasubio/2025-11-07/
END:VEVENT
BEGIN:VEVENT
DTSTART;TZID=UTC:20251031T150000
DTEND;TZID=UTC:20251031T160000
DTSTAMP:20260425T003617
CREATED:20200723T134804Z
LAST-MODIFIED:20200723T134804Z
UID:10919-1761922800-1761926400@www.plrivieradiponente.it
SUMMARY:Loano pulizia strade Via Sant'Agostino Via Monte Pasubio
DESCRIPTION:
URL:http://www.plrivieradiponente.it/evento/loano-pulizia-strade-via-santagostino-via-monte-pasubio/2025-10-31/
END:VEVENT
BEGIN:VEVENT
DTSTART;TZID=UTC:20251024T150000
DTEND;TZID=UTC:20251024T160000
DTSTAMP:20260425T003617
CREATED:20200723T134804Z
LAST-MODIFIED:20200723T134804Z
UID:10901-1761318000-1761321600@www.plrivieradiponente.it
SUMMARY:Loano pulizia strade Via Sant'Agostino Via Monte Pasubio
DESCRIPTION:
URL:http://www.plrivieradiponente.it/evento/loano-pulizia-strade-via-santagostino-via-monte-pasubio/2025-10-24/
END:VEVENT
BEGIN:VEVENT
DTSTART;TZID=UTC:20251017T150000
DTEND;TZID=UTC:20251017T160000
DTSTAMP:20260425T003617
CREATED:20200723T134804Z
LAST-MODIFIED:20200723T134804Z
UID:10881-1760713200-1760716800@www.plrivieradiponente.it
SUMMARY:Loano pulizia strade Via Sant'Agostino Via Monte Pasubio
DESCRIPTION:
URL:http://www.plrivieradiponente.it/evento/loano-pulizia-strade-via-santagostino-via-monte-pasubio/2025-10-17/
END:VEVENT
BEGIN:VEVENT
DTSTART;TZID=UTC:20251010T150000
DTEND;TZID=UTC:20251010T160000
DTSTAMP:20260425T003617
CREATED:20200723T134804Z
LAST-MODIFIED:20200723T134804Z
UID:10865-1760108400-1760112000@www.plrivieradiponente.it
SUMMARY:Loano pulizia strade Via Sant'Agostino Via Monte Pasubio
DESCRIPTION:
URL:http://www.plrivieradiponente.it/evento/loano-pulizia-strade-via-santagostino-via-monte-pasubio/2025-10-10/
END:VEVENT
BEGIN:VEVENT
DTSTART;TZID=UTC:20251003T150000
DTEND;TZID=UTC:20251003T160000
DTSTAMP:20260425T003617
CREATED:20200723T134804Z
LAST-MODIFIED:20200723T134804Z
UID:10840-1759503600-1759507200@www.plrivieradiponente.it
SUMMARY:Loano pulizia strade Via Sant'Agostino Via Monte Pasubio
DESCRIPTION:
URL:http://www.plrivieradiponente.it/evento/loano-pulizia-strade-via-santagostino-via-monte-pasubio/2025-10-03/
END:VEVENT
END:VCALENDAR