BEGIN:VCALENDAR
VERSION:2.0
PRODID:-//Polizia Locale Riviera di Ponente - ECPv6.7.0//NONSGML v1.0//EN
CALSCALE:GREGORIAN
METHOD:PUBLISH
X-WR-CALNAME:Polizia Locale Riviera di Ponente
X-ORIGINAL-URL:http://www.plrivieradiponente.it
X-WR-CALDESC:Eventi per Polizia Locale Riviera di Ponente
REFRESH-INTERVAL;VALUE=DURATION:PT1H
X-Robots-Tag:noindex
X-PUBLISHED-TTL:PT1H
BEGIN:VTIMEZONE
TZID:UTC
BEGIN:STANDARD
TZOFFSETFROM:+0000
TZOFFSETTO:+0000
TZNAME:UTC
DTSTART:20260101T000000
END:STANDARD
END:VTIMEZONE
BEGIN:VEVENT
DTSTART;TZID=UTC:20260501T150000
DTEND;TZID=UTC:20260501T160000
DTSTAMP:20260424T225548
CREATED:20200723T134804Z
LAST-MODIFIED:20200723T134804Z
UID:11615-1777647600-1777651200@www.plrivieradiponente.it
SUMMARY:Loano pulizia strade Via Sant'Agostino Via Monte Pasubio
DESCRIPTION:
URL:http://www.plrivieradiponente.it/evento/loano-pulizia-strade-via-santagostino-via-monte-pasubio/2026-05-01/
END:VEVENT
BEGIN:VEVENT
DTSTART;TZID=UTC:20260508T150000
DTEND;TZID=UTC:20260508T160000
DTSTAMP:20260424T225548
CREATED:20200723T134804Z
LAST-MODIFIED:20200723T134804Z
UID:11640-1778252400-1778256000@www.plrivieradiponente.it
SUMMARY:Loano pulizia strade Via Sant'Agostino Via Monte Pasubio
DESCRIPTION:
URL:http://www.plrivieradiponente.it/evento/loano-pulizia-strade-via-santagostino-via-monte-pasubio/2026-05-08/
END:VEVENT
BEGIN:VEVENT
DTSTART;TZID=UTC:20260515T150000
DTEND;TZID=UTC:20260515T160000
DTSTAMP:20260424T225548
CREATED:20200723T134804Z
LAST-MODIFIED:20200723T134804Z
UID:11656-1778857200-1778860800@www.plrivieradiponente.it
SUMMARY:Loano pulizia strade Via Sant'Agostino Via Monte Pasubio
DESCRIPTION:
URL:http://www.plrivieradiponente.it/evento/loano-pulizia-strade-via-santagostino-via-monte-pasubio/2026-05-15/
END:VEVENT
BEGIN:VEVENT
DTSTART;TZID=UTC:20260522T150000
DTEND;TZID=UTC:20260522T160000
DTSTAMP:20260424T225548
CREATED:20200723T134804Z
LAST-MODIFIED:20200723T134804Z
UID:11672-1779462000-1779465600@www.plrivieradiponente.it
SUMMARY:Loano pulizia strade Via Sant'Agostino Via Monte Pasubio
DESCRIPTION:
URL:http://www.plrivieradiponente.it/evento/loano-pulizia-strade-via-santagostino-via-monte-pasubio/2026-05-22/
END:VEVENT
BEGIN:VEVENT
DTSTART;TZID=UTC:20260529T150000
DTEND;TZID=UTC:20260529T160000
DTSTAMP:20260424T225548
CREATED:20200723T134804Z
LAST-MODIFIED:20200723T134804Z
UID:11688-1780066800-1780070400@www.plrivieradiponente.it
SUMMARY:Loano pulizia strade Via Sant'Agostino Via Monte Pasubio
DESCRIPTION:
URL:http://www.plrivieradiponente.it/evento/loano-pulizia-strade-via-santagostino-via-monte-pasubio/2026-05-29/
END:VEVENT
BEGIN:VEVENT
DTSTART;TZID=UTC:20260605T150000
DTEND;TZID=UTC:20260605T160000
DTSTAMP:20260424T225548
CREATED:20200723T134804Z
LAST-MODIFIED:20200723T134804Z
UID:11714-1780671600-1780675200@www.plrivieradiponente.it
SUMMARY:Loano pulizia strade Via Sant'Agostino Via Monte Pasubio
DESCRIPTION:
URL:http://www.plrivieradiponente.it/evento/loano-pulizia-strade-via-santagostino-via-monte-pasubio/2026-06-05/
END:VEVENT
BEGIN:VEVENT
DTSTART;TZID=UTC:20260612T150000
DTEND;TZID=UTC:20260612T160000
DTSTAMP:20260424T225548
CREATED:20200723T134804Z
LAST-MODIFIED:20200723T134804Z
UID:11754-1781276400-1781280000@www.plrivieradiponente.it
SUMMARY:Loano pulizia strade Via Sant'Agostino Via Monte Pasubio
DESCRIPTION:
URL:http://www.plrivieradiponente.it/evento/loano-pulizia-strade-via-santagostino-via-monte-pasubio/2026-06-12/
END:VEVENT
BEGIN:VEVENT
DTSTART;TZID=UTC:20260619T150000
DTEND;TZID=UTC:20260619T160000
DTSTAMP:20260424T225548
CREATED:20200723T134804Z
LAST-MODIFIED:20200723T134804Z
UID:11778-1781881200-1781884800@www.plrivieradiponente.it
SUMMARY:Loano pulizia strade Via Sant'Agostino Via Monte Pasubio
DESCRIPTION:
URL:http://www.plrivieradiponente.it/evento/loano-pulizia-strade-via-santagostino-via-monte-pasubio/2026-06-19/
END:VEVENT
BEGIN:VEVENT
DTSTART;TZID=UTC:20260626T150000
DTEND;TZID=UTC:20260626T160000
DTSTAMP:20260424T225548
CREATED:20200723T134804Z
LAST-MODIFIED:20200723T134804Z
UID:11799-1782486000-1782489600@www.plrivieradiponente.it
SUMMARY:Loano pulizia strade Via Sant'Agostino Via Monte Pasubio
DESCRIPTION:
URL:http://www.plrivieradiponente.it/evento/loano-pulizia-strade-via-santagostino-via-monte-pasubio/2026-06-26/
END:VEVENT
BEGIN:VEVENT
DTSTART;TZID=UTC:20260703T150000
DTEND;TZID=UTC:20260703T160000
DTSTAMP:20260424T225548
CREATED:20200723T134804Z
LAST-MODIFIED:20200723T134804Z
UID:11819-1783090800-1783094400@www.plrivieradiponente.it
SUMMARY:Loano pulizia strade Via Sant'Agostino Via Monte Pasubio
DESCRIPTION:
URL:http://www.plrivieradiponente.it/evento/loano-pulizia-strade-via-santagostino-via-monte-pasubio/2026-07-03/
END:VEVENT
BEGIN:VEVENT
DTSTART;TZID=UTC:20260710T150000
DTEND;TZID=UTC:20260710T160000
DTSTAMP:20260424T225548
CREATED:20200723T134804Z
LAST-MODIFIED:20200723T134804Z
UID:11849-1783695600-1783699200@www.plrivieradiponente.it
SUMMARY:Loano pulizia strade Via Sant'Agostino Via Monte Pasubio
DESCRIPTION:
URL:http://www.plrivieradiponente.it/evento/loano-pulizia-strade-via-santagostino-via-monte-pasubio/2026-07-10/
END:VEVENT
BEGIN:VEVENT
DTSTART;TZID=UTC:20260717T150000
DTEND;TZID=UTC:20260717T160000
DTSTAMP:20260424T225548
CREATED:20200723T134804Z
LAST-MODIFIED:20200723T134804Z
UID:11865-1784300400-1784304000@www.plrivieradiponente.it
SUMMARY:Loano pulizia strade Via Sant'Agostino Via Monte Pasubio
DESCRIPTION:
URL:http://www.plrivieradiponente.it/evento/loano-pulizia-strade-via-santagostino-via-monte-pasubio/2026-07-17/
END:VEVENT
BEGIN:VEVENT
DTSTART;TZID=UTC:20260724T150000
DTEND;TZID=UTC:20260724T160000
DTSTAMP:20260424T225548
CREATED:20200723T134804Z
LAST-MODIFIED:20200723T134804Z
UID:11892-1784905200-1784908800@www.plrivieradiponente.it
SUMMARY:Loano pulizia strade Via Sant'Agostino Via Monte Pasubio
DESCRIPTION:
URL:http://www.plrivieradiponente.it/evento/loano-pulizia-strade-via-santagostino-via-monte-pasubio/2026-07-24/
END:VEVENT
BEGIN:VEVENT
DTSTART;TZID=UTC:20260731T150000
DTEND;TZID=UTC:20260731T160000
DTSTAMP:20260424T225548
CREATED:20200723T134804Z
LAST-MODIFIED:20200723T134804Z
UID:11908-1785510000-1785513600@www.plrivieradiponente.it
SUMMARY:Loano pulizia strade Via Sant'Agostino Via Monte Pasubio
DESCRIPTION:
URL:http://www.plrivieradiponente.it/evento/loano-pulizia-strade-via-santagostino-via-monte-pasubio/2026-07-31/
END:VEVENT
BEGIN:VEVENT
DTSTART;TZID=UTC:20260807T150000
DTEND;TZID=UTC:20260807T160000
DTSTAMP:20260424T225548
CREATED:20200723T134804Z
LAST-MODIFIED:20200723T134804Z
UID:11932-1786114800-1786118400@www.plrivieradiponente.it
SUMMARY:Loano pulizia strade Via Sant'Agostino Via Monte Pasubio
DESCRIPTION:
URL:http://www.plrivieradiponente.it/evento/loano-pulizia-strade-via-santagostino-via-monte-pasubio/2026-08-07/
END:VEVENT
BEGIN:VEVENT
DTSTART;TZID=UTC:20260821T150000
DTEND;TZID=UTC:20260821T160000
DTSTAMP:20260424T225548
CREATED:20200723T134804Z
LAST-MODIFIED:20200723T134804Z
UID:11937-1787324400-1787328000@www.plrivieradiponente.it
SUMMARY:Loano pulizia strade Via Sant'Agostino Via Monte Pasubio
DESCRIPTION:
URL:http://www.plrivieradiponente.it/evento/loano-pulizia-strade-via-santagostino-via-monte-pasubio/2026-08-21/
END:VEVENT
BEGIN:VEVENT
DTSTART;TZID=UTC:20260828T150000
DTEND;TZID=UTC:20260828T160000
DTSTAMP:20260424T225548
CREATED:20200723T134804Z
LAST-MODIFIED:20200723T134804Z
UID:11953-1787929200-1787932800@www.plrivieradiponente.it
SUMMARY:Loano pulizia strade Via Sant'Agostino Via Monte Pasubio
DESCRIPTION:
URL:http://www.plrivieradiponente.it/evento/loano-pulizia-strade-via-santagostino-via-monte-pasubio/2026-08-28/
END:VEVENT
BEGIN:VEVENT
DTSTART;TZID=UTC:20260904T150000
DTEND;TZID=UTC:20260904T160000
DTSTAMP:20260424T225548
CREATED:20200723T134804Z
LAST-MODIFIED:20200723T134804Z
UID:11978-1788534000-1788537600@www.plrivieradiponente.it
SUMMARY:Loano pulizia strade Via Sant'Agostino Via Monte Pasubio
DESCRIPTION:
URL:http://www.plrivieradiponente.it/evento/loano-pulizia-strade-via-santagostino-via-monte-pasubio/2026-09-04/
END:VEVENT
BEGIN:VEVENT
DTSTART;TZID=UTC:20260911T150000
DTEND;TZID=UTC:20260911T160000
DTSTAMP:20260424T225548
CREATED:20200723T134804Z
LAST-MODIFIED:20200723T134804Z
UID:12012-1789138800-1789142400@www.plrivieradiponente.it
SUMMARY:Loano pulizia strade Via Sant'Agostino Via Monte Pasubio
DESCRIPTION:
URL:http://www.plrivieradiponente.it/evento/loano-pulizia-strade-via-santagostino-via-monte-pasubio/2026-09-11/
END:VEVENT
BEGIN:VEVENT
DTSTART;TZID=UTC:20260918T150000
DTEND;TZID=UTC:20260918T160000
DTSTAMP:20260424T225548
CREATED:20200723T134804Z
LAST-MODIFIED:20200723T134804Z
UID:12028-1789743600-1789747200@www.plrivieradiponente.it
SUMMARY:Loano pulizia strade Via Sant'Agostino Via Monte Pasubio
DESCRIPTION:
URL:http://www.plrivieradiponente.it/evento/loano-pulizia-strade-via-santagostino-via-monte-pasubio/2026-09-18/
END:VEVENT
BEGIN:VEVENT
DTSTART;TZID=UTC:20260925T150000
DTEND;TZID=UTC:20260925T160000
DTSTAMP:20260424T225548
CREATED:20200723T134804Z
LAST-MODIFIED:20200723T134804Z
UID:12048-1790348400-1790352000@www.plrivieradiponente.it
SUMMARY:Loano pulizia strade Via Sant'Agostino Via Monte Pasubio
DESCRIPTION:
URL:http://www.plrivieradiponente.it/evento/loano-pulizia-strade-via-santagostino-via-monte-pasubio/2026-09-25/
END:VEVENT
BEGIN:VEVENT
DTSTART;TZID=UTC:20261002T150000
DTEND;TZID=UTC:20261002T160000
DTSTAMP:20260424T225548
CREATED:20200723T134804Z
LAST-MODIFIED:20200723T134804Z
UID:12067-1790953200-1790956800@www.plrivieradiponente.it
SUMMARY:Loano pulizia strade Via Sant'Agostino Via Monte Pasubio
DESCRIPTION:
URL:http://www.plrivieradiponente.it/evento/loano-pulizia-strade-via-santagostino-via-monte-pasubio/2026-10-02/
END:VEVENT
BEGIN:VEVENT
DTSTART;TZID=UTC:20261009T150000
DTEND;TZID=UTC:20261009T160000
DTSTAMP:20260424T225548
CREATED:20200723T134804Z
LAST-MODIFIED:20200723T134804Z
UID:12110-1791558000-1791561600@www.plrivieradiponente.it
SUMMARY:Loano pulizia strade Via Sant'Agostino Via Monte Pasubio
DESCRIPTION:
URL:http://www.plrivieradiponente.it/evento/loano-pulizia-strade-via-santagostino-via-monte-pasubio/2026-10-09/
END:VEVENT
BEGIN:VEVENT
DTSTART;TZID=UTC:20261016T150000
DTEND;TZID=UTC:20261016T160000
DTSTAMP:20260424T225548
CREATED:20200723T134804Z
LAST-MODIFIED:20200723T134804Z
UID:12168-1792162800-1792166400@www.plrivieradiponente.it
SUMMARY:Loano pulizia strade Via Sant'Agostino Via Monte Pasubio
DESCRIPTION:
URL:http://www.plrivieradiponente.it/evento/loano-pulizia-strade-via-santagostino-via-monte-pasubio/2026-10-16/
END:VEVENT
BEGIN:VEVENT
DTSTART;TZID=UTC:20261023T150000
DTEND;TZID=UTC:20261023T160000
DTSTAMP:20260424T225548
CREATED:20200723T134804Z
LAST-MODIFIED:20200723T134804Z
UID:12219-1792767600-1792771200@www.plrivieradiponente.it
SUMMARY:Loano pulizia strade Via Sant'Agostino Via Monte Pasubio
DESCRIPTION:
URL:http://www.plrivieradiponente.it/evento/loano-pulizia-strade-via-santagostino-via-monte-pasubio/2026-10-23/
END:VEVENT
BEGIN:VEVENT
DTSTART;TZID=UTC:20261030T150000
DTEND;TZID=UTC:20261030T160000
DTSTAMP:20260424T225548
CREATED:20200723T134804Z
LAST-MODIFIED:20200723T134804Z
UID:12236-1793372400-1793376000@www.plrivieradiponente.it
SUMMARY:Loano pulizia strade Via Sant'Agostino Via Monte Pasubio
DESCRIPTION:
URL:http://www.plrivieradiponente.it/evento/loano-pulizia-strade-via-santagostino-via-monte-pasubio/2026-10-30/
END:VEVENT
BEGIN:VEVENT
DTSTART;TZID=UTC:20261106T150000
DTEND;TZID=UTC:20261106T160000
DTSTAMP:20260424T225548
CREATED:20200723T134804Z
LAST-MODIFIED:20200723T134804Z
UID:12260-1793977200-1793980800@www.plrivieradiponente.it
SUMMARY:Loano pulizia strade Via Sant'Agostino Via Monte Pasubio
DESCRIPTION:
URL:http://www.plrivieradiponente.it/evento/loano-pulizia-strade-via-santagostino-via-monte-pasubio/2026-11-06/
END:VEVENT
BEGIN:VEVENT
DTSTART;TZID=UTC:20261113T150000
DTEND;TZID=UTC:20261113T160000
DTSTAMP:20260424T225548
CREATED:20200723T134804Z
LAST-MODIFIED:20200723T134804Z
UID:12282-1794582000-1794585600@www.plrivieradiponente.it
SUMMARY:Loano pulizia strade Via Sant'Agostino Via Monte Pasubio
DESCRIPTION:
URL:http://www.plrivieradiponente.it/evento/loano-pulizia-strade-via-santagostino-via-monte-pasubio/2026-11-13/
END:VEVENT
BEGIN:VEVENT
DTSTART;TZID=UTC:20261120T150000
DTEND;TZID=UTC:20261120T160000
DTSTAMP:20260424T225548
CREATED:20200723T134804Z
LAST-MODIFIED:20200723T134804Z
UID:12320-1795186800-1795190400@www.plrivieradiponente.it
SUMMARY:Loano pulizia strade Via Sant'Agostino Via Monte Pasubio
DESCRIPTION:
URL:http://www.plrivieradiponente.it/evento/loano-pulizia-strade-via-santagostino-via-monte-pasubio/2026-11-20/
END:VEVENT
BEGIN:VEVENT
DTSTART;TZID=UTC:20261127T150000
DTEND;TZID=UTC:20261127T160000
DTSTAMP:20260424T225548
CREATED:20200723T134804Z
LAST-MODIFIED:20200723T134804Z
UID:12336-1795791600-1795795200@www.plrivieradiponente.it
SUMMARY:Loano pulizia strade Via Sant'Agostino Via Monte Pasubio
DESCRIPTION:
URL:http://www.plrivieradiponente.it/evento/loano-pulizia-strade-via-santagostino-via-monte-pasubio/2026-11-27/
END:VEVENT
END:VCALENDAR