BEGIN:VCALENDAR
VERSION:2.0
PRODID:-//Polizia Locale Riviera di Ponente - ECPv6.7.0//NONSGML v1.0//EN
CALSCALE:GREGORIAN
METHOD:PUBLISH
X-WR-CALNAME:Polizia Locale Riviera di Ponente
X-ORIGINAL-URL:https://www.plrivieradiponente.it
X-WR-CALDESC:Eventi per Polizia Locale Riviera di Ponente
REFRESH-INTERVAL;VALUE=DURATION:PT1H
X-Robots-Tag:noindex
X-PUBLISHED-TTL:PT1H
BEGIN:VTIMEZONE
TZID:UTC
BEGIN:STANDARD
TZOFFSETFROM:+0000
TZOFFSETTO:+0000
TZNAME:UTC
DTSTART:20260101T000000
END:STANDARD
END:VTIMEZONE
BEGIN:VEVENT
DTSTART;TZID=UTC:20260420T050000
DTEND;TZID=UTC:20260420T070000
DTSTAMP:20260420T021432
CREATED:20200713T140641Z
LAST-MODIFIED:20200713T140641Z
UID:11572-1776661200-1776668400@www.plrivieradiponente.it
SUMMARY:Loano pulizia strade Via Aurelia da Via Pontassi a confine con Borghetto SS
DESCRIPTION:
URL:https://www.plrivieradiponente.it/evento/loano-pulizia-strade-via-aurelia-da-via-pontassi-a-confine-con-borghetto-ss/2026-04-20/
CATEGORIES:Divieto di sosta Loano
END:VEVENT
BEGIN:VEVENT
DTSTART;TZID=UTC:20260420T060000
DTEND;TZID=UTC:20260420T080000
DTSTAMP:20260420T021432
CREATED:20200713T140825Z
LAST-MODIFIED:20200713T140825Z
UID:11573-1776664800-1776672000@www.plrivieradiponente.it
SUMMARY:Loano pulizia strade Via dei Gazzi - C.so Roma V.le Martiri delle Foibe Via Trento e Trieste - Via Petrarca - Via Deledda
DESCRIPTION:
URL:https://www.plrivieradiponente.it/evento/loano-pulizia-strade-via-dei-gazzi-c-so-roma-v-le-martiri-delle-foibe-via-trento-e-trieste-via-petrarca-via-deledda/2026-04-20/
CATEGORIES:Divieto di sosta Loano
END:VEVENT
BEGIN:VEVENT
DTSTART;TZID=UTC:20260420T080000
DTEND;TZID=UTC:20260420T100000
DTSTAMP:20260420T021432
CREATED:20200713T141002Z
LAST-MODIFIED:20200713T141002Z
UID:11574-1776672000-1776679200@www.plrivieradiponente.it
SUMMARY:Loano pulizia strade Via Venezia - Via Marco Polo - trav. P.zza Antonio da Noli
DESCRIPTION:
URL:https://www.plrivieradiponente.it/evento/loano-pulizia-strade-via-venezia-via-marco-polo-trav-p-zza-antonio-da-noli/2026-04-20/
CATEGORIES:Divieto di sosta Loano
END:VEVENT
BEGIN:VEVENT
DTSTART;TZID=UTC:20260420T090000
DTEND;TZID=UTC:20260420T110000
DTSTAMP:20260420T021433
CREATED:20200713T141452Z
LAST-MODIFIED:20200713T141452Z
UID:11575-1776675600-1776682800@www.plrivieradiponente.it
SUMMARY:Loano Pulizia strade via Pisa
DESCRIPTION:
URL:https://www.plrivieradiponente.it/evento/loano-pulizia-strade-via-pisa/2026-04-20/
CATEGORIES:Divieto di sosta Loano
END:VEVENT
END:VCALENDAR