BEGIN:VCALENDAR
VERSION:2.0
PRODID:-//Polizia Locale Riviera di Ponente - ECPv6.7.0//NONSGML v1.0//EN
CALSCALE:GREGORIAN
METHOD:PUBLISH
X-ORIGINAL-URL:https://www.plrivieradiponente.it
X-WR-CALDESC:Eventi per Polizia Locale Riviera di Ponente
REFRESH-INTERVAL;VALUE=DURATION:PT1H
X-Robots-Tag:noindex
X-PUBLISHED-TTL:PT1H
BEGIN:VTIMEZONE
TZID:UTC
BEGIN:STANDARD
TZOFFSETFROM:+0000
TZOFFSETTO:+0000
TZNAME:UTC
DTSTART:20260101T000000
END:STANDARD
END:VTIMEZONE
BEGIN:VEVENT
DTSTART;TZID=UTC:20260429T080000
DTEND;TZID=UTC:20260429T100000
DTSTAMP:20260424T132214
CREATED:20200718T182935Z
LAST-MODIFIED:20200718T182935Z
UID:11611-1777449600-1777456800@www.plrivieradiponente.it
SUMMARY:Loano pulizia strade Via Ponchielli
DESCRIPTION:
URL:https://www.plrivieradiponente.it/evento/loano-pulizia-strade-via-ponchielli/2026-04-29/
CATEGORIES:Divieto di sosta Loano
END:VEVENT
BEGIN:VEVENT
DTSTART;TZID=UTC:20260506T080000
DTEND;TZID=UTC:20260506T100000
DTSTAMP:20260424T132214
CREATED:20200718T182935Z
LAST-MODIFIED:20200718T182935Z
UID:11635-1778054400-1778061600@www.plrivieradiponente.it
SUMMARY:Loano pulizia strade Via Ponchielli
DESCRIPTION:
URL:https://www.plrivieradiponente.it/evento/loano-pulizia-strade-via-ponchielli/2026-05-06/
CATEGORIES:Divieto di sosta Loano
END:VEVENT
BEGIN:VEVENT
DTSTART;TZID=UTC:20260513T080000
DTEND;TZID=UTC:20260513T100000
DTSTAMP:20260424T132214
CREATED:20200718T182935Z
LAST-MODIFIED:20200718T182935Z
UID:11652-1778659200-1778666400@www.plrivieradiponente.it
SUMMARY:Loano pulizia strade Via Ponchielli
DESCRIPTION:
URL:https://www.plrivieradiponente.it/evento/loano-pulizia-strade-via-ponchielli/2026-05-13/
CATEGORIES:Divieto di sosta Loano
END:VEVENT
BEGIN:VEVENT
DTSTART;TZID=UTC:20260520T080000
DTEND;TZID=UTC:20260520T100000
DTSTAMP:20260424T132214
CREATED:20200718T182935Z
LAST-MODIFIED:20200718T182935Z
UID:11668-1779264000-1779271200@www.plrivieradiponente.it
SUMMARY:Loano pulizia strade Via Ponchielli
DESCRIPTION:
URL:https://www.plrivieradiponente.it/evento/loano-pulizia-strade-via-ponchielli/2026-05-20/
CATEGORIES:Divieto di sosta Loano
END:VEVENT
BEGIN:VEVENT
DTSTART;TZID=UTC:20260527T080000
DTEND;TZID=UTC:20260527T100000
DTSTAMP:20260424T132214
CREATED:20200718T182935Z
LAST-MODIFIED:20200718T182935Z
UID:11684-1779868800-1779876000@www.plrivieradiponente.it
SUMMARY:Loano pulizia strade Via Ponchielli
DESCRIPTION:
URL:https://www.plrivieradiponente.it/evento/loano-pulizia-strade-via-ponchielli/2026-05-27/
CATEGORIES:Divieto di sosta Loano
END:VEVENT
BEGIN:VEVENT
DTSTART;TZID=UTC:20260603T080000
DTEND;TZID=UTC:20260603T100000
DTSTAMP:20260424T132214
CREATED:20200718T182935Z
LAST-MODIFIED:20200718T182935Z
UID:11710-1780473600-1780480800@www.plrivieradiponente.it
SUMMARY:Loano pulizia strade Via Ponchielli
DESCRIPTION:
URL:https://www.plrivieradiponente.it/evento/loano-pulizia-strade-via-ponchielli/2026-06-03/
CATEGORIES:Divieto di sosta Loano
END:VEVENT
BEGIN:VEVENT
DTSTART;TZID=UTC:20260610T080000
DTEND;TZID=UTC:20260610T100000
DTSTAMP:20260424T132214
CREATED:20200718T182935Z
LAST-MODIFIED:20200718T182935Z
UID:11750-1781078400-1781085600@www.plrivieradiponente.it
SUMMARY:Loano pulizia strade Via Ponchielli
DESCRIPTION:
URL:https://www.plrivieradiponente.it/evento/loano-pulizia-strade-via-ponchielli/2026-06-10/
CATEGORIES:Divieto di sosta Loano
END:VEVENT
BEGIN:VEVENT
DTSTART;TZID=UTC:20260617T080000
DTEND;TZID=UTC:20260617T100000
DTSTAMP:20260424T132214
CREATED:20200718T182935Z
LAST-MODIFIED:20200718T182935Z
UID:11767-1781683200-1781690400@www.plrivieradiponente.it
SUMMARY:Loano pulizia strade Via Ponchielli
DESCRIPTION:
URL:https://www.plrivieradiponente.it/evento/loano-pulizia-strade-via-ponchielli/2026-06-17/
CATEGORIES:Divieto di sosta Loano
END:VEVENT
BEGIN:VEVENT
DTSTART;TZID=UTC:20260624T080000
DTEND;TZID=UTC:20260624T100000
DTSTAMP:20260424T132214
CREATED:20200718T182935Z
LAST-MODIFIED:20200718T182935Z
UID:11795-1782288000-1782295200@www.plrivieradiponente.it
SUMMARY:Loano pulizia strade Via Ponchielli
DESCRIPTION:
URL:https://www.plrivieradiponente.it/evento/loano-pulizia-strade-via-ponchielli/2026-06-24/
CATEGORIES:Divieto di sosta Loano
END:VEVENT
BEGIN:VEVENT
DTSTART;TZID=UTC:20260701T080000
DTEND;TZID=UTC:20260701T100000
DTSTAMP:20260424T132214
CREATED:20200718T182935Z
LAST-MODIFIED:20200718T182935Z
UID:11815-1782892800-1782900000@www.plrivieradiponente.it
SUMMARY:Loano pulizia strade Via Ponchielli
DESCRIPTION:
URL:https://www.plrivieradiponente.it/evento/loano-pulizia-strade-via-ponchielli/2026-07-01/
CATEGORIES:Divieto di sosta Loano
END:VEVENT
BEGIN:VEVENT
DTSTART;TZID=UTC:20260708T080000
DTEND;TZID=UTC:20260708T100000
DTSTAMP:20260424T132214
CREATED:20200718T182935Z
LAST-MODIFIED:20200718T182935Z
UID:11835-1783497600-1783504800@www.plrivieradiponente.it
SUMMARY:Loano pulizia strade Via Ponchielli
DESCRIPTION:
URL:https://www.plrivieradiponente.it/evento/loano-pulizia-strade-via-ponchielli/2026-07-08/
CATEGORIES:Divieto di sosta Loano
END:VEVENT
BEGIN:VEVENT
DTSTART;TZID=UTC:20260715T080000
DTEND;TZID=UTC:20260715T100000
DTSTAMP:20260424T132214
CREATED:20200718T182935Z
LAST-MODIFIED:20200718T182935Z
UID:11861-1784102400-1784109600@www.plrivieradiponente.it
SUMMARY:Loano pulizia strade Via Ponchielli
DESCRIPTION:
URL:https://www.plrivieradiponente.it/evento/loano-pulizia-strade-via-ponchielli/2026-07-15/
CATEGORIES:Divieto di sosta Loano
END:VEVENT
BEGIN:VEVENT
DTSTART;TZID=UTC:20260722T080000
DTEND;TZID=UTC:20260722T100000
DTSTAMP:20260424T132214
CREATED:20200718T182935Z
LAST-MODIFIED:20200718T182935Z
UID:11878-1784707200-1784714400@www.plrivieradiponente.it
SUMMARY:Loano pulizia strade Via Ponchielli
DESCRIPTION:
URL:https://www.plrivieradiponente.it/evento/loano-pulizia-strade-via-ponchielli/2026-07-22/
CATEGORIES:Divieto di sosta Loano
END:VEVENT
BEGIN:VEVENT
DTSTART;TZID=UTC:20260729T080000
DTEND;TZID=UTC:20260729T100000
DTSTAMP:20260424T132214
CREATED:20200718T182935Z
LAST-MODIFIED:20200718T182935Z
UID:11904-1785312000-1785319200@www.plrivieradiponente.it
SUMMARY:Loano pulizia strade Via Ponchielli
DESCRIPTION:
URL:https://www.plrivieradiponente.it/evento/loano-pulizia-strade-via-ponchielli/2026-07-29/
CATEGORIES:Divieto di sosta Loano
END:VEVENT
BEGIN:VEVENT
DTSTART;TZID=UTC:20260805T080000
DTEND;TZID=UTC:20260805T100000
DTSTAMP:20260424T132214
CREATED:20200718T182935Z
LAST-MODIFIED:20200718T182935Z
UID:11928-1785916800-1785924000@www.plrivieradiponente.it
SUMMARY:Loano pulizia strade Via Ponchielli
DESCRIPTION:
URL:https://www.plrivieradiponente.it/evento/loano-pulizia-strade-via-ponchielli/2026-08-05/
CATEGORIES:Divieto di sosta Loano
END:VEVENT
BEGIN:VEVENT
DTSTART;TZID=UTC:20260826T080000
DTEND;TZID=UTC:20260826T100000
DTSTAMP:20260424T132214
CREATED:20200718T182935Z
LAST-MODIFIED:20200718T182935Z
UID:11949-1787731200-1787738400@www.plrivieradiponente.it
SUMMARY:Loano pulizia strade Via Ponchielli
DESCRIPTION:
URL:https://www.plrivieradiponente.it/evento/loano-pulizia-strade-via-ponchielli/2026-08-26/
CATEGORIES:Divieto di sosta Loano
END:VEVENT
BEGIN:VEVENT
DTSTART;TZID=UTC:20260902T080000
DTEND;TZID=UTC:20260902T100000
DTSTAMP:20260424T132214
CREATED:20200718T182935Z
LAST-MODIFIED:20200718T182935Z
UID:11974-1788336000-1788343200@www.plrivieradiponente.it
SUMMARY:Loano pulizia strade Via Ponchielli
DESCRIPTION:
URL:https://www.plrivieradiponente.it/evento/loano-pulizia-strade-via-ponchielli/2026-09-02/
CATEGORIES:Divieto di sosta Loano
END:VEVENT
BEGIN:VEVENT
DTSTART;TZID=UTC:20260909T080000
DTEND;TZID=UTC:20260909T100000
DTSTAMP:20260424T132214
CREATED:20200718T182935Z
LAST-MODIFIED:20200718T182935Z
UID:11999-1788940800-1788948000@www.plrivieradiponente.it
SUMMARY:Loano pulizia strade Via Ponchielli
DESCRIPTION:
URL:https://www.plrivieradiponente.it/evento/loano-pulizia-strade-via-ponchielli/2026-09-09/
CATEGORIES:Divieto di sosta Loano
END:VEVENT
BEGIN:VEVENT
DTSTART;TZID=UTC:20260916T080000
DTEND;TZID=UTC:20260916T100000
DTSTAMP:20260424T132214
CREATED:20200718T182935Z
LAST-MODIFIED:20200718T182935Z
UID:12024-1789545600-1789552800@www.plrivieradiponente.it
SUMMARY:Loano pulizia strade Via Ponchielli
DESCRIPTION:
URL:https://www.plrivieradiponente.it/evento/loano-pulizia-strade-via-ponchielli/2026-09-16/
CATEGORIES:Divieto di sosta Loano
END:VEVENT
BEGIN:VEVENT
DTSTART;TZID=UTC:20260923T080000
DTEND;TZID=UTC:20260923T100000
DTSTAMP:20260424T132214
CREATED:20200718T182935Z
LAST-MODIFIED:20200718T182935Z
UID:12044-1790150400-1790157600@www.plrivieradiponente.it
SUMMARY:Loano pulizia strade Via Ponchielli
DESCRIPTION:
URL:https://www.plrivieradiponente.it/evento/loano-pulizia-strade-via-ponchielli/2026-09-23/
CATEGORIES:Divieto di sosta Loano
END:VEVENT
BEGIN:VEVENT
DTSTART;TZID=UTC:20260930T080000
DTEND;TZID=UTC:20260930T100000
DTSTAMP:20260424T132214
CREATED:20200718T182935Z
LAST-MODIFIED:20200718T182935Z
UID:12060-1790755200-1790762400@www.plrivieradiponente.it
SUMMARY:Loano pulizia strade Via Ponchielli
DESCRIPTION:
URL:https://www.plrivieradiponente.it/evento/loano-pulizia-strade-via-ponchielli/2026-09-30/
CATEGORIES:Divieto di sosta Loano
END:VEVENT
BEGIN:VEVENT
DTSTART;TZID=UTC:20261007T080000
DTEND;TZID=UTC:20261007T100000
DTSTAMP:20260424T132214
CREATED:20200718T182935Z
LAST-MODIFIED:20200718T182935Z
UID:12087-1791360000-1791367200@www.plrivieradiponente.it
SUMMARY:Loano pulizia strade Via Ponchielli
DESCRIPTION:
URL:https://www.plrivieradiponente.it/evento/loano-pulizia-strade-via-ponchielli/2026-10-07/
CATEGORIES:Divieto di sosta Loano
END:VEVENT
BEGIN:VEVENT
DTSTART;TZID=UTC:20261014T080000
DTEND;TZID=UTC:20261014T100000
DTSTAMP:20260424T132214
CREATED:20200718T182935Z
LAST-MODIFIED:20200718T182935Z
UID:12151-1791964800-1791972000@www.plrivieradiponente.it
SUMMARY:Loano pulizia strade Via Ponchielli
DESCRIPTION:
URL:https://www.plrivieradiponente.it/evento/loano-pulizia-strade-via-ponchielli/2026-10-14/
CATEGORIES:Divieto di sosta Loano
END:VEVENT
BEGIN:VEVENT
DTSTART;TZID=UTC:20261021T080000
DTEND;TZID=UTC:20261021T100000
DTSTAMP:20260424T132214
CREATED:20200718T182935Z
LAST-MODIFIED:20200718T182935Z
UID:12215-1792569600-1792576800@www.plrivieradiponente.it
SUMMARY:Loano pulizia strade Via Ponchielli
DESCRIPTION:
URL:https://www.plrivieradiponente.it/evento/loano-pulizia-strade-via-ponchielli/2026-10-21/
CATEGORIES:Divieto di sosta Loano
END:VEVENT
BEGIN:VEVENT
DTSTART;TZID=UTC:20261028T080000
DTEND;TZID=UTC:20261028T100000
DTSTAMP:20260424T132214
CREATED:20200718T182935Z
LAST-MODIFIED:20200718T182935Z
UID:12232-1793174400-1793181600@www.plrivieradiponente.it
SUMMARY:Loano pulizia strade Via Ponchielli
DESCRIPTION:
URL:https://www.plrivieradiponente.it/evento/loano-pulizia-strade-via-ponchielli/2026-10-28/
CATEGORIES:Divieto di sosta Loano
END:VEVENT
BEGIN:VEVENT
DTSTART;TZID=UTC:20261104T080000
DTEND;TZID=UTC:20261104T100000
DTSTAMP:20260424T132214
CREATED:20200718T182935Z
LAST-MODIFIED:20200718T182935Z
UID:12256-1793779200-1793786400@www.plrivieradiponente.it
SUMMARY:Loano pulizia strade Via Ponchielli
DESCRIPTION:
URL:https://www.plrivieradiponente.it/evento/loano-pulizia-strade-via-ponchielli/2026-11-04/
CATEGORIES:Divieto di sosta Loano
END:VEVENT
BEGIN:VEVENT
DTSTART;TZID=UTC:20261111T080000
DTEND;TZID=UTC:20261111T100000
DTSTAMP:20260424T132214
CREATED:20200718T182935Z
LAST-MODIFIED:20200718T182935Z
UID:12278-1794384000-1794391200@www.plrivieradiponente.it
SUMMARY:Loano pulizia strade Via Ponchielli
DESCRIPTION:
URL:https://www.plrivieradiponente.it/evento/loano-pulizia-strade-via-ponchielli/2026-11-11/
CATEGORIES:Divieto di sosta Loano
END:VEVENT
BEGIN:VEVENT
DTSTART;TZID=UTC:20261118T080000
DTEND;TZID=UTC:20261118T100000
DTSTAMP:20260424T132214
CREATED:20200718T182935Z
LAST-MODIFIED:20200718T182935Z
UID:12308-1794988800-1794996000@www.plrivieradiponente.it
SUMMARY:Loano pulizia strade Via Ponchielli
DESCRIPTION:
URL:https://www.plrivieradiponente.it/evento/loano-pulizia-strade-via-ponchielli/2026-11-18/
CATEGORIES:Divieto di sosta Loano
END:VEVENT
BEGIN:VEVENT
DTSTART;TZID=UTC:20261125T080000
DTEND;TZID=UTC:20261125T100000
DTSTAMP:20260424T132214
CREATED:20200718T182935Z
LAST-MODIFIED:20200718T182935Z
UID:12332-1795593600-1795600800@www.plrivieradiponente.it
SUMMARY:Loano pulizia strade Via Ponchielli
DESCRIPTION:
URL:https://www.plrivieradiponente.it/evento/loano-pulizia-strade-via-ponchielli/2026-11-25/
CATEGORIES:Divieto di sosta Loano
END:VEVENT
BEGIN:VEVENT
DTSTART;TZID=UTC:20261202T080000
DTEND;TZID=UTC:20261202T100000
DTSTAMP:20260424T132214
CREATED:20200718T182935Z
LAST-MODIFIED:20200718T182935Z
UID:12355-1796198400-1796205600@www.plrivieradiponente.it
SUMMARY:Loano pulizia strade Via Ponchielli
DESCRIPTION:
URL:https://www.plrivieradiponente.it/evento/loano-pulizia-strade-via-ponchielli/2026-12-02/
CATEGORIES:Divieto di sosta Loano
END:VEVENT
END:VCALENDAR